BEGIN:VCALENDAR
VERSION:2.0
PRODID:-//ChamberMaster//Event Calendar 2.0//EN
METHOD:PUBLISH
X-PUBLISHED-TTL:P3D
REFRESH-INTERVAL:P3D
CALSCALE:GREGORIAN
BEGIN:VEVENT
DTSTART:20210910T150000Z
DTEND:20210910T160000Z
X-MICROSOFT-CDO-ALLDAYEVENT:FALSE
SUMMARY:Ribbon Cutting/Grand Reopening - 901 Wings
DESCRIPTION:Ribbon Cutting/Grand Reopening\, 10AM\, 901 Wings\, 156 Stateline Rd.\, Southaven\, MS 38671: We are excited to welcome 901 Wings to the Chamber! Known for their great wings\, burger\, fries\, and more\, 901 Wings is deemed "The King of Wings". They have recently announced the relocation of their Southaven store! In celebration\, their ribbon cutting/grand reopening will take place at the new location at 10AM. Hope to see you there!
X-ALT-DESC;FMTTYPE=text/html:<strong><span style="color:black\;"><span style="font-family:tahoma\,sans-serif\;"><span style="font-size:16.0pt\;">Ribbon Cutting/Grand Reopening\, 10AM\, 901 Wings\, 156 Stateline Rd.\, Southaven\, MS 38671: </span></span></span></strong><span style="font-family:tahoma\,sans-serif\;"><span style="font-size:16.0pt\;">We are excited to welcome 901 Wings to the Chamber! Known for their great wings\, burger\, fries\, and more\, 901 Wings is deemed &ldquo\;The King of Wings&rdquo\;. They have recently announced the relocation of their Southaven store! In celebration\, their ribbon cutting/grand reopening will take place at the new location at 10AM. Hope to see you there!</span></span><br />\n&nbsp\;
LOCATION:901 Wings 156 Stateline Rd. Southaven\, MS 38671
UID:e.512.17092
SEQUENCE:3
DTSTAMP:20260422T111437Z
URL:https://southavenchamber-mosaic-gzcms.preview.gochambermaster.com/events/details/ribbon-cutting-grand-reopening-901-wings-17092
END:VEVENT

END:VCALENDAR
