BEGIN:VCALENDAR
VERSION:2.0
PRODID:-//ChamberMaster//Event Calendar 2.0//EN
METHOD:PUBLISH
X-PUBLISHED-TTL:P3D
REFRESH-INTERVAL:P3D
CALSCALE:GREGORIAN
BEGIN:VEVENT
DTSTART:20210720T170000Z
DTEND:20210720T180000Z
X-MICROSOFT-CDO-ALLDAYEVENT:FALSE
SUMMARY:Ribbon Cutting - EXIT Southern Charm Realty
DESCRIPTION:Ribbon Cutting\, 12PM\, EXIT Southern Charm Realty\, 1326 Goodman Rd.\, Southaven\, MS 38671: We are excited to welcome EXIT Southern Charm Realty to the Chamber! Broker\, Arielle Reece\, is getting established in Southaven and wants to get to know the business community. Please come out and join us as we commence her being open for business!
X-ALT-DESC;FMTTYPE=text/html:<strong><span style="color:black\;"><span style="font-family:tahoma\,sans-serif\;"><span style="font-size:16.0pt\;">Ribbon Cutting\, 12PM\, EXIT Southern Charm Realty\, 1326 Goodman Rd.\, Southaven\, MS 38671: </span></span></span></strong><span style="font-family:tahoma\,sans-serif\;"><span style="font-size:16.0pt\;">We are excited to welcome EXIT Southern Charm Realty to the Chamber! Broker\, Arielle Reece\, is getting established in Southaven and wants to get to know the business community. Please come out and join us as we commence her being open for business!</span></span>
LOCATION:EXIT Southern Charm Realty 1326 Goodman Rd. Southaven\, MS 38671
UID:e.512.16845
SEQUENCE:3
DTSTAMP:20260422T184641Z
URL:https://southavenchamber-mosaic-gzcms.preview.gochambermaster.com/events/details/ribbon-cutting-exit-southern-charm-realty-16845
END:VEVENT

END:VCALENDAR
