BEGIN:VCALENDAR
VERSION:2.0
PRODID:-//ChamberMaster//Event Calendar 2.0//EN
METHOD:PUBLISH
X-PUBLISHED-TTL:P3D
REFRESH-INTERVAL:P3D
CALSCALE:GREGORIAN
BEGIN:VEVENT
DTSTART:20200227T210000Z
DTEND:20200227T220000Z
X-MICROSOFT-CDO-ALLDAYEVENT:FALSE
SUMMARY:RIBBON CUTTING - DeSoto Local
DESCRIPTION:Please join us in welcoming a new business to Southaven! DeSoto Local is bringing a digital marketing option to the local scene! Please come meet Cash and Brandy! We hope to see you all at the Chamber.
X-ALT-DESC;FMTTYPE=text/html:Please join us in welcoming a new business to Southaven! DeSoto Local is bringing a digital marketing option to the local scene! Please come meet Cash and Brandy! We hope to see you all at the Chamber.
LOCATION:Southaven Chamber office 500 Main Street Southaven\, MS 38671
UID:e.512.16033
SEQUENCE:3
DTSTAMP:20260424T013919Z
URL:https://southavenchamber-mosaic-gzcms.preview.gochambermaster.com/events/details/ribbon-cutting-desoto-local-16033
END:VEVENT

END:VCALENDAR
