BEGIN:VCALENDAR
VERSION:2.0
PRODID:-//ChamberMaster//Event Calendar 2.0//EN
METHOD:PUBLISH
X-PUBLISHED-TTL:P3D
REFRESH-INTERVAL:P3D
CALSCALE:GREGORIAN
BEGIN:VEVENT
DTSTART:20190822T203000Z
DTEND:20190822T220000Z
X-MICROSOFT-CDO-ALLDAYEVENT:FALSE
SUMMARY:Ribbon Cutting: Desoto Family Theatre
DESCRIPTION:Please join us in celebrating the relocation of the DeSoto Family Theatre office and rehearsal space into Tanger Outlets Shopping Center! We are excited that this will bring more exposure to our community theatre\, and we know DFT appreciates the support of the Chamber Board\, Ambassadors as well as the entire business community! Please invite a guest and see the great things that are happening in our local community theatre and Tanger Outlets!!
X-ALT-DESC;FMTTYPE=text/html:<span style="font-size:16px\;"><span style="color:#000000\;"><span style="font-family:tahoma\,sans-serif\;">Please join us in celebrating the relocation of the DeSoto Family Theatre office and rehearsal space into Tanger Outlets Shopping Center! We are excited that this will bring more exposure to our community theatre\, and we know DFT appreciates the support of the Chamber Board\, Ambassadors as well as the entire business community! Please invite a guest and see the great things that are happening in our local community theatre and Tanger Outlets!!</span></span></span>
LOCATION:Tanger Outlets\, 5205 Airways Blvd.\, Suite 310\, Southaven
UID:e.512.14916
SEQUENCE:3
DTSTAMP:20260424T135008Z
URL:https://southavenchamber-mosaic-gzcms.preview.gochambermaster.com/events/details/ribbon-cutting-desoto-family-theatre-14916
END:VEVENT

END:VCALENDAR
