BEGIN:VCALENDAR
VERSION:2.0
PRODID:-//ChamberMaster//Event Calendar 2.0//EN
METHOD:PUBLISH
X-PUBLISHED-TTL:P3D
REFRESH-INTERVAL:P3D
CALSCALE:GREGORIAN
BEGIN:VEVENT
DTSTART:20210727T190000Z
DTEND:20210727T200000Z
X-MICROSOFT-CDO-ALLDAYEVENT:FALSE
SUMMARY:Ribbon Cutting - Crye-Leike Realtors - Kenneth Cannon
DESCRIPTION:Ribbon Cutting\, 2PM\, Crye-Leike Realtors   Kenneth Cannon\, 1320 Goodman Rd. E\, Southaven\, MS 38671: We are excited to welcome Crye-Leike realtors   Kenneth Cannon to the Chamber! Ken Cannon knows searching for properties can be difficult with so many choices and search options. Whether you are buying or selling\, him and his team can help you through the process.
X-ALT-DESC;FMTTYPE=text/html:<strong><span style="color:black\;"><span style="font-family:tahoma\,sans-serif\;"><span style="font-size:16.0pt\;">Ribbon Cutting\, 2PM\, Crye-Leike Realtors &ndash\; Kenneth Cannon\, 1320 Goodman Rd. E\, Southaven\, MS 38671: </span></span></span></strong><span style="font-family:tahoma\,sans-serif\;"><span style="font-size:16.0pt\;">We are excited to welcome Crye-Leike realtors &ndash\; Kenneth Cannon to the Chamber! Ken Cannon knows searching for properties can be difficult with so many choices and search options. Whether you are buying or selling\, him and his team can help you through the process.</span></span>
LOCATION:1320 Goodman Rd. E Southaven\, MS 38671
UID:e.512.16857
SEQUENCE:3
DTSTAMP:20260422T184731Z
URL:https://southavenchamber-mosaic-gzcms.preview.gochambermaster.com/events/details/ribbon-cutting-crye-leike-realtors-kenneth-cannon-16857
END:VEVENT

END:VCALENDAR
