BEGIN:VCALENDAR
VERSION:2.0
PRODID:-//ChamberMaster//Event Calendar 2.0//EN
METHOD:PUBLISH
X-PUBLISHED-TTL:P3D
REFRESH-INTERVAL:P3D
CALSCALE:GREGORIAN
BEGIN:VEVENT
DTSTART:20210707T143000Z
DTEND:20210707T153000Z
X-MICROSOFT-CDO-ALLDAYEVENT:FALSE
SUMMARY:Ribbon Cutting - Connie's Custom Cleaning
DESCRIPTION:Ribbon Cutting\, 9:30AM\, Connie's Custom Cleaning\, 500 Main St\, Southaven 38671: Please help us welcome Connie's Custom Cleaning to the Chamber! We are excited to have them as member. They offer a wide variety of cleaning services such as commercial\, recurring\, post construction\, grout \, move out/move in\, and deep cleaning. Hope to see you there!
X-ALT-DESC;FMTTYPE=text/html:<strong><span style="color:black\;"><span style="font-family:tahoma\,sans-serif\;"><span style="font-size:16.0pt\;">Ribbon Cutting\, 9:30AM\, Connie&rsquo\;s Custom Cleaning\, 500 Main St\, Southaven 38671: </span></span></span></strong><span style="color:black\;"><span style="font-family:tahoma\,sans-serif\;"><span style="font-size:16.0pt\;">Please help us welcome Connie&rsquo\;s Custom Cleaning to the Chamber! We are excited to have them as member. They offer a wide variety of cleaning services such as commercial\, recurring\, post construction\, grout \, move out/move in\, and deep cleaning. Hope to see you there!</span></span></span>
LOCATION:Southaven Chamber of Commerce 500 Main Street Southaven\, MS 38671
UID:e.512.16852
SEQUENCE:3
DTSTAMP:20260422T184636Z
URL:https://southavenchamber-mosaic-gzcms.preview.gochambermaster.com/events/details/ribbon-cutting-connie-s-custom-cleaning-16852
END:VEVENT

END:VCALENDAR
