BEGIN:VCALENDAR
VERSION:2.0
PRODID:-//ChamberMaster//Event Calendar 2.0//EN
METHOD:PUBLISH
X-PUBLISHED-TTL:P3D
REFRESH-INTERVAL:P3D
CALSCALE:GREGORIAN
BEGIN:VEVENT
DTSTART:20211026T140000Z
DTEND:20211026T150000Z
X-MICROSOFT-CDO-ALLDAYEVENT:FALSE
SUMMARY:Ribbon Cutting - Clarity Cleaning Systems
DESCRIPTION:Ribbon Cutting\, 9AM\, Southaven Chamber of Commerce\, 500 Main Street\, Southaven\, MS 38671: We are eager to welcome Clarity Cleaning Systems to the Chamber! They are a pressure washing business that services residential and commercial properties in the DeSoto County and Memphis area. Their experts offer premier pressure washing services for all your outdoor cleaning needs!
X-ALT-DESC;FMTTYPE=text/html:<strong><span style="color:black\;"><span style="font-family:tahoma\,sans-serif\;"><span style="font-size:16.0pt\;">Ribbon Cutting\, 9AM\, Southaven Chamber of Commerce\, 500 Main Street\, Southaven\, MS 38671: </span></span></span></strong><span style="font-family:tahoma\,sans-serif\;"><span style="font-size:16.0pt\;">We are eager to welcome Clarity Cleaning Systems to the Chamber! They are a pressure washing business that services residential and commercial properties in the DeSoto County and Memphis area. Their experts offer premier pressure washing services for all your outdoor cleaning needs!</span></span>
LOCATION:Southaven Chamber of Commerce 500 Main Street Southaven\, MS 38671
UID:e.512.17114
SEQUENCE:3
DTSTAMP:20260422T072357Z
URL:https://southavenchamber-mosaic-gzcms.preview.gochambermaster.com/events/details/ribbon-cutting-clarity-cleaning-systems-17114
END:VEVENT

END:VCALENDAR
