BEGIN:VCALENDAR
VERSION:2.0
PRODID:-//ChamberMaster//Event Calendar 2.0//EN
METHOD:PUBLISH
X-PUBLISHED-TTL:P3D
REFRESH-INTERVAL:P3D
CALSCALE:GREGORIAN
BEGIN:VEVENT
DTSTART:20180502T140000Z
DTEND:20180502T143000Z
X-MICROSOFT-CDO-ALLDAYEVENT:FALSE
SUMMARY:RIBBON CUTTING - CAR WASH USA - HORN LAKE
DESCRIPTION:Please join us in representing Southaven and our long-time Chamber member\, Car Wash USA Express with their additional location in Horn Lake! This will be a joint ribbon cutting. Hope to see you all there!
X-ALT-DESC;FMTTYPE=text/html:<span style="font-family:century gothic\,sans-serif\;">Please join us in representing Southaven and our long-time Chamber member\, Car Wash USA Express with their additional location in Horn Lake! This will be a joint ribbon cutting. Hope to see you all there!&nbsp\;</span>
LOCATION:3091 Goodman Rd. W\, Horn Lake\, MS 38637
UID:e.512.7284
SEQUENCE:3
DTSTAMP:20260425T221438Z
URL:https://southavenchamber-mosaic-gzcms.preview.gochambermaster.com/events/details/ribbon-cutting-car-wash-usa-horn-lake-7284
END:VEVENT

END:VCALENDAR
