BEGIN:VCALENDAR
VERSION:2.0
PRODID:-//ChamberMaster//Event Calendar 2.0//EN
METHOD:PUBLISH
X-PUBLISHED-TTL:P3D
REFRESH-INTERVAL:P3D
CALSCALE:GREGORIAN
BEGIN:VEVENT
DTSTART:20220622T210000Z
DTEND:20220622T220000Z
X-MICROSOFT-CDO-ALLDAYEVENT:FALSE
SUMMARY:Ribbon Cutting- Blues City Kids
DESCRIPTION:Ribbon Cutting\, 4PM\, Blues City Kids\, 1794 Main St.\, Southaven\, MS 38671: We are excited to welcome Blues City Kids to the Chamber! They offer adorable and affordable kids fashion. Blues City Kids has clothing and accessories for boys and girls from newborn to youth/teen sizes. They offer online shopping as well. We hope you can join us for this celebration event!
X-ALT-DESC;FMTTYPE=text/html:<strong><span style="font-family:tahoma\,sans-serif\;"><span style="font-size:16.0pt\;">Ribbon Cutting\, 4PM\, Blues City Kids\, 1794 Main St.\, Southaven\, MS 38671:&nbsp\;</span></span></strong><span style="font-family:tahoma\,sans-serif\;"><span style="font-size:16.0pt\;">We are excited to welcome Blues City Kids to the Chamber! They offer adorable and affordable kids fashion. Blues City Kids has clothing and accessories for boys and girls from newborn to youth/teen sizes. They offer online shopping as well.&nbsp\;We hope you can join us for this celebration event!</span></span>
LOCATION:Blues City Kids 1794 Main St. Southaven\, MS 38671
UID:e.512.17279
SEQUENCE:3
DTSTAMP:20260421T061646Z
URL:https://southavenchamber-mosaic-gzcms.preview.gochambermaster.com/events/details/ribbon-cutting-blues-city-kids-17279
END:VEVENT

END:VCALENDAR
