BEGIN:VCALENDAR
VERSION:2.0
PRODID:-//ChamberMaster//Event Calendar 2.0//EN
METHOD:PUBLISH
X-PUBLISHED-TTL:P3D
REFRESH-INTERVAL:P3D
CALSCALE:GREGORIAN
BEGIN:VEVENT
DTSTART:20181012T160000Z
DTEND:20181012T163000Z
X-MICROSOFT-CDO-ALLDAYEVENT:FALSE
SUMMARY:RIBBON CUTTING: Blue Care Medical Academy
DESCRIPTION:Please join us to welcome BLUE CARE MEDICAL ACADEMY to Southaven!
X-ALT-DESC;FMTTYPE=text/html:Please join us to welcome BLUE CARE MEDICAL ACADEMY to Southaven!&nbsp\;
LOCATION:204 Main Street (Stateline Rd) Ste. 204-210 Southaven\, MS
UID:e.512.10516
SEQUENCE:3
DTSTAMP:20260425T035457Z
URL:https://southavenchamber-mosaic-gzcms.preview.gochambermaster.com/events/details/ribbon-cutting-blue-care-medical-academy-10516
END:VEVENT

END:VCALENDAR
