BEGIN:VCALENDAR
VERSION:2.0
PRODID:-//ChamberMaster//Event Calendar 2.0//EN
METHOD:PUBLISH
X-PUBLISHED-TTL:P3D
REFRESH-INTERVAL:P3D
CALSCALE:GREGORIAN
BEGIN:VEVENT
DTSTART:20221207T173000Z
DTEND:20221207T183000Z
X-MICROSOFT-CDO-ALLDAYEVENT:FALSE
SUMMARY:Ribbon Cutting - Aquarium by Fish Barn
DESCRIPTION:Ribbon Cutting\, 11:30AM\, Aquarium by Fish Barn\, 3046 Goodman Rd. W\, Horn Lake\, MS 38637: We are excited to welcome Aquarium to the Chamber! This is a joint ribbon cutting with the Horn Lake Chamber of Commerce. Aquarium by Fish Barn is your one-stop shop for fish and aquariums. They pride themselves on a wide selection of fish and beautiful aquariums. They offer a wide variety of fresh and saltwater fish\, aquariums\, fish food\, aquarium decorations\, and more. We hope you can join us!
X-ALT-DESC;FMTTYPE=text/html:<strong><span style="color:#333333\;"><span style="font-family:tahoma\,sans-serif\;"><span style="font-size:16.0pt\;">Ribbon Cutting\, 11:30AM\, Aquarium by Fish Barn\, 3046 Goodman Rd. W\, Horn Lake\, MS 38637:&nbsp\;</span></span></span></strong><span style="color:#333333\;"><span style="font-family:tahoma\,sans-serif\;"><span style="font-size:16.0pt\;">We are excited to welcome Aquarium to the Chamber! This is a joint ribbon cutting with the Horn Lake Chamber of Commerce.</span></span></span> <span style="color:#333333\;"><span style="font-family:tahoma\,sans-serif\;"><span style="font-size:16.0pt\;">Aquarium by Fish Barn is your one-stop shop for fish and aquariums. They pride themselves on a wide selection of fish and beautiful aquariums. They offer a wide variety of fresh and saltwater fish\, aquariums\, fish food\, aquarium decorations\, and more. We hope you can join us!</span></span></span>
LOCATION:
UID:e.512.18135
SEQUENCE:3
DTSTAMP:20260420T170636Z
URL:https://southavenchamber-mosaic-gzcms.preview.gochambermaster.com/events/details/ribbon-cutting-aquarium-by-fish-barn-18135
END:VEVENT

END:VCALENDAR
