BEGIN:VCALENDAR
VERSION:2.0
PRODID:-//ChamberMaster//Event Calendar 2.0//EN
METHOD:PUBLISH
X-PUBLISHED-TTL:P3D
REFRESH-INTERVAL:P3D
CALSCALE:GREGORIAN
BEGIN:VEVENT
DTSTART:20220805T153000Z
DTEND:20220805T163000Z
X-MICROSOFT-CDO-ALLDAYEVENT:FALSE
SUMMARY:Ribbon Cutting- All-Rite Plumbing Parts Inc.
DESCRIPTION:Ribbon Cutting\, 10:30AM\, All-Rite Plumbing Parts\, Inc.\, 9066 Lacey Dr.\, Southaven\, MS 38671: We are excited to welcome All-Rite Plumbing Parts to the Chamber! They are retail plumbing supply business open to both contractors and general public. All-Rite Plumbing Parts provide quality products as well as exceptional customer service.  We hope you can join us for this celebration event!
X-ALT-DESC;FMTTYPE=text/html:<strong><span style="font-family: tahoma\, sans-serif\;"><span style="font-size: 16pt\;">Ribbon Cutting\, 10:30AM\, All-Rite Plumbing Parts\, Inc.\, 9066 Lacey Dr.\, Southaven\, MS 38671:&nbsp\;</span></span></strong><span style="font-family: tahoma\, sans-serif\;"><span style="font-size: 16pt\;">We are excited to welcome All-Rite Plumbing Parts to the Chamber! They are retail plumbing supply business open to both contractors and general public. All-Rite Plumbing Parts provide quality products as well as exceptional customer service.</span></span><span style="font-family: tahoma\, sans-serif\;"><span style="font-size: 16pt\;">&nbsp\; We hope you can join us for this celebration event!</span></span>
LOCATION:All-Rite Plumbing Parts\, Inc. 9066 Lacey Dr. Southaven\, MS 38671
UID:e.512.17293
SEQUENCE:3
DTSTAMP:20260421T015802Z
URL:https://southavenchamber-mosaic-gzcms.preview.gochambermaster.com/events/details/ribbon-cutting-all-rite-plumbing-parts-inc-17293
END:VEVENT

END:VCALENDAR
