BEGIN:VCALENDAR
VERSION:2.0
PRODID:-//ChamberMaster//Event Calendar 2.0//EN
METHOD:PUBLISH
X-PUBLISHED-TTL:P3D
REFRESH-INTERVAL:P3D
CALSCALE:GREGORIAN
BEGIN:VEVENT
DTSTART:20190923T140000Z
DTEND:20190923T150000Z
X-MICROSOFT-CDO-ALLDAYEVENT:FALSE
SUMMARY:Ribbon Cutting-Advanced Dental Implant and TMJ Center
DESCRIPTION:Please join us in celebrating Dr. Adatrow and his team relocating their office\, Advanced Dental Implant and TMJ Center to a better\, more accessible area in Southaven! They are now located in the office complex off Getwell Rd. just north of Goodman Rd. We hope you make plans to join us and celebrate one of the best Periodontists and Prosthodontists in the Mid-South being right here in Southaven! Hope to see you all there!
X-ALT-DESC;FMTTYPE=text/html:<span style="color: rgb(60\, 64\, 67)\; font-family: Roboto\, Arial\, sans-serif\; font-size: 14px\; letter-spacing: 0.2px\; white-space: pre-wrap\; background-color: rgb(255\, 255\, 255)\;">Please join us in celebrating Dr. Adatrow and his team relocating their office\, Advanced Dental Implant and TMJ Center to a better\, more accessible area in Southaven! They are now located in the office complex off Getwell Rd. just north of Goodman Rd. We hope you make plans to join us and celebrate one of the best Periodontists and Prosthodontists in the Mid-South being right here in Southaven! Hope to see you all there! </span>
LOCATION:7135 Getwell Rd. Ste 100\, Southaven\, MS
UID:e.512.14927
SEQUENCE:3
DTSTAMP:20260424T135014Z
URL:https://southavenchamber-mosaic-gzcms.preview.gochambermaster.com/events/details/ribbon-cutting-advanced-dental-implant-and-tmj-center-14927
END:VEVENT

END:VCALENDAR
