BEGIN:VCALENDAR
VERSION:2.0
PRODID:-//ChamberMaster//Event Calendar 2.0//EN
METHOD:PUBLISH
X-PUBLISHED-TTL:P3D
REFRESH-INTERVAL:P3D
CALSCALE:GREGORIAN
BEGIN:VEVENT
DTSTART:20230215T180000Z
DTEND:20230215T180000Z
X-MICROSOFT-CDO-ALLDAYEVENT:FALSE
SUMMARY:Quarterly Luncheon - 2023 (02/15)
DESCRIPTION:Quarterly Luncheon\, 11:30AM   1PM\, Landers Center\, 4560 Venture Dr.\, Southaven\, MS 38671: The Southaven Chamber of Commerce luncheon\, attended by 300+ professionals\, is a great opportunity to meet business leaders\, network with your peers\, and forge powerful partnerships for your business.
X-ALT-DESC;FMTTYPE=text/html:<strong><span style="color:#333333\;"><span style="font-family:tahoma\,sans-serif\;"><span style="font-size:16.0pt\;">Quarterly Luncheon\, 11:30AM &ndash\; 1PM\, Landers Center\, 4560 Venture Dr.\, Southaven\, MS 38671: </span></span></span></strong><span style="font-family:tahoma\,sans-serif\;"><span style="font-size:16.0pt\;">The Southaven Chamber of Commerce luncheon\, attended by&nbsp\;300+ professionals\, is a great opportunity to meet business leaders\, network with your peers\, and forge powerful partnerships for your business.</span></span>
LOCATION:Landers Center 4560 Venture Drive Southaven\, MS 38671
UID:e.512.17387
SEQUENCE:3
DTSTAMP:20260420T141608Z
URL:https://southavenchamber-mosaic-gzcms.preview.gochambermaster.com/events/details/quarterly-luncheon-2023-02-15-17387
END:VEVENT

END:VCALENDAR
