BEGIN:VCALENDAR
VERSION:2.0
PRODID:-//ChamberMaster//Event Calendar 2.0//EN
METHOD:PUBLISH
X-PUBLISHED-TTL:P3D
REFRESH-INTERVAL:P3D
CALSCALE:GREGORIAN
BEGIN:VEVENT
DTSTART:20211020T163000Z
DTEND:20211020T180000Z
X-MICROSOFT-CDO-ALLDAYEVENT:FALSE
SUMMARY:Quarterly Luncheon - 2021 (10/20)
DESCRIPTION:The Southaven Chamber of Commerce Quarterly Luncheon\, regularly attended by  350+ professionals\, is a great opportunity to meet business leaders\, network with your peers\, and forge powerful partnerships for your business. Definitely a MUST attend event! \n\nEvery October we honor outstanding businesses and leaders nominated and voted for by OUR MEMBERS! Please join us to also see a year in review as well as a look at 2022 with the Southaven Chamber.
X-ALT-DESC;FMTTYPE=text/html:<span style="font-size:16px\;"><span style="font-family:tahoma\;">The Southaven Chamber of Commerce Quarterly Luncheon\, regularly attended by&nbsp\; 350+ professionals\, is a great opportunity to meet business leaders\, network with your peers\, and forge powerful partnerships for your business. Definitely a MUST attend event!&nbsp\;<br />\nEvery October we honor outstanding businesses and leaders nominated and voted for by OUR MEMBERS! Please join us to also see a year in review as well as a look at 2022 with the Southaven Chamber.&nbsp\;</span></span>
LOCATION:The Landers Center 4560 Venture Drive Southaven\, MS 38671
UID:e.512.16614
SEQUENCE:3
DTSTAMP:20260422T072358Z
URL:https://southavenchamber-mosaic-gzcms.preview.gochambermaster.com/events/details/quarterly-luncheon-2021-10-20-16614
END:VEVENT

END:VCALENDAR
