BEGIN:VCALENDAR
VERSION:2.0
PRODID:-//ChamberMaster//Event Calendar 2.0//EN
METHOD:PUBLISH
X-PUBLISHED-TTL:P3D
REFRESH-INTERVAL:P3D
CALSCALE:GREGORIAN
BEGIN:VEVENT
DTSTART:20200819T170000Z
DTEND:20200819T180000Z
X-MICROSOFT-CDO-ALLDAYEVENT:FALSE
SUMMARY:Quarterly Luncheon - 2020 (08/19) VIRTUAL
DESCRIPTION:Southaven Chamber of Commerce's FIRST  Virtual Quarterly Luncheon is Wednesday\, August 19th at 12:00pm. Log in from the office or home! Hear from experts at Baptist Memorial Health Care\, Dr. Jake Lancaster and CEO Brian Hogan. \n\n	Pay $20 online and select either AC's Southaven\, AC's Hernando or Memphis Barbecue Company\n	Select menu item \n	Your meal will be ready for pick up at the restaurant you chose August 19th between 11-11:45\n	Head on back to your office and log in to WedEx\n	It's easy AND helps the Chamber\n\nIf you would like to submit any questions to Dr. Lancaster or Brian Hogan\, please email them to info@southavenchamber.com. \n\n\n\n\n\nRegister HERE!
X-ALT-DESC;FMTTYPE=text/html:<span style="font-family: tahoma\, sans-serif\; font-size: 16pt\;">Southaven Chamber of Commerce&rsquo\;s <em>FIRST</em> &nbsp\;Virtual Quarterly Luncheon is Wednesday\, August 19<sup>th</sup>&nbsp\;at 12:00pm. Log in from the office or home! Hear from experts at Baptist Memorial Health Care</span><font face="calibri\, sans-serif"><span style="font-size: 14.6667px\;">\,</span></font><span style="font-family:tahoma\,sans-serif\;"><span style="font-size:16.0pt\;">&nbsp\;Dr. Jake Lancaster and CEO Brian Hogan.&nbsp\;</span></span>\n<ul>\n	<li><span style="font-family:tahoma\,sans-serif\;"><span style="font-size:16.0pt\;">Pay $20 online and select either AC&rsquo\;s Southaven\, AC&rsquo\;s Hernando or Memphis Barbecue Company</span></span></li>\n	<li><span style="font-family:tahoma\,sans-serif\;"><span style="font-size:16.0pt\;">Select menu item </span></span></li>\n	<li><span style="font-family:tahoma\,sans-serif\;"><span style="font-size:16.0pt\;">Your meal will be ready for pick up at the restaurant you chose August 19<sup>th</sup> between 11-11:45</span></span></li>\n	<li><span style="font-family:tahoma\,sans-serif\;"><span style="font-size:16.0pt\;">Head on back to your office and log in to WedEx</span></span></li>\n	<li><span style="font-family:tahoma\,sans-serif\;"><span style="font-size:16.0pt\;">It&rsquo\;s easy AND helps the Chamber</span></span></li>\n</ul>\n<span style="font-family:tahoma\,sans-serif\;"><span style="font-size:16.0pt\;">If you would like to submit any questions to Dr. Lancaster or Brian Hogan\, please email them to info@southavenchamber.com.&nbsp\;</span></span><br />\n<br />\n<br />\n<strong><span style="background:yellow\;"><span style="color:black\;"><span style="font-family:tahoma\,sans-serif\;"><span style="font-size:16.0pt\;">Register <a href="https://nam11.safelinks.protection.outlook.com/?url=https%3A%2F%2Fsouthavenchamber.chambermaster.com%2Feventregistration%2Fregister%2F15633&amp\;data=02%7C01%7Ckelle.roberts%40bmhcc.org%7C24cceca9e3e84a5c53d708d834801e29%7C2059208fff284b47971ef40dac55a264%7C0%7C0%7C637317072162749903&amp\;sdata=K%2BK959rNaMotFk1QfpKMlFGud42h0MFSoGjEg%2FXg6x8%3D&amp\;reserved=0">HERE</a>!</span></span></span></span></strong><br />\n<br />\n<br />\n&nbsp\;
LOCATION:Virtual Event via WebEx
UID:e.512.15633
SEQUENCE:3
DTSTAMP:20260423T170539Z
URL:https://southavenchamber-mosaic-gzcms.preview.gochambermaster.com/events/details/quarterly-luncheon-2020-08-19-virtual-15633
END:VEVENT

END:VCALENDAR
