BEGIN:VCALENDAR
VERSION:2.0
PRODID:-//ChamberMaster//Event Calendar 2.0//EN
METHOD:PUBLISH
X-PUBLISHED-TTL:P3D
REFRESH-INTERVAL:P3D
CALSCALE:GREGORIAN
BEGIN:VEVENT
DTSTART:20231026T230000Z
DTEND:20231027T030000Z
X-MICROSOFT-CDO-ALLDAYEVENT:FALSE
SUMMARY:Purple Purse Project 2.0
DESCRIPTION:Join us as we commemorate the remarkable 25th anniversary of House of Grace Domestic Violence Shelter--a momentous milestone in our journey of empowering and fostering a strong sense of community. Come together with us at our fundraising event\, where we stand united in supporting survivors of domestic violence. Your presence and generous contributions will serve as a beacon of inspiration\, uplifting those who have endured unimaginable hardships. As we celebrate\, the evening will be filled with anticipation and joy\, offering you the opportunity to win thrilling door prizes\, bid on auction items and the privilege of meeting distinguished guests. Let us join forces and make a lasting impact\, working towards a world where domestic violence is but a distant memory.
X-ALT-DESC;FMTTYPE=text/html:<span style="font-size:14px">Join us as we commemorate the remarkable <strong>25th anniversary</strong> of House of Grace Domestic Violence Shelter--a momentous milestone in our journey of empowering and fostering a strong sense of community. Come together with us at our fundraising event\, where we stand united in supporting survivors of domestic violence. Your presence and generous contributions will serve as a beacon of inspiration\, uplifting those who have endured unimaginable hardships. As we celebrate\, the evening will be filled with anticipation and joy\, offering you the opportunity to win thrilling door prizes\, bid on auction items and the privilege of meeting distinguished guests. Let us join forces and make a lasting impact\, working towards a world where domestic violence is but a distant memory.&nbsp\;&nbsp\;</span>
LOCATION:Southern Elegance Events 654 Church Rd E\, Southaven\, MS 38671
UID:e.512.18870
SEQUENCE:3
DTSTAMP:20260419T230131Z
URL:https://southavenchamber-mosaic-gzcms.preview.gochambermaster.com/events/details/purple-purse-project-2-0-18870
END:VEVENT

END:VCALENDAR
