BEGIN:VCALENDAR
VERSION:2.0
PRODID:-//ChamberMaster//Event Calendar 2.0//EN
METHOD:PUBLISH
X-PUBLISHED-TTL:P3D
REFRESH-INTERVAL:P3D
CALSCALE:GREGORIAN
BEGIN:VEVENT
DTSTART:20230808T120000Z
DTEND:20230809T000000Z
X-MICROSOFT-CDO-ALLDAYEVENT:FALSE
SUMMARY:Primary Election Day
DESCRIPTION:This is the primary election for our county officials.
X-ALT-DESC;FMTTYPE=text/html:This is the primary election for our county officials.&nbsp\;
LOCATION:Voter Precinct locations vary but can be looked up by addresshttps://dcms-gis.maps.arcgis.com/apps/webappviewer/index.html?id=7ee7335236fe4c968635e083c143f480
UID:e.512.18561
SEQUENCE:3
DTSTAMP:20260419T205834Z
URL:https://southavenchamber-mosaic-gzcms.preview.gochambermaster.com/events/details/primary-election-day-18561
END:VEVENT

END:VCALENDAR
