BEGIN:VCALENDAR
VERSION:2.0
PRODID:-//ChamberMaster//Event Calendar 2.0//EN
METHOD:PUBLISH
X-PUBLISHED-TTL:P3D
REFRESH-INTERVAL:P3D
CALSCALE:GREGORIAN
BEGIN:VEVENT
DTSTART:20210124T200000Z
DTEND:20210124T213000Z
X-MICROSOFT-CDO-ALLDAYEVENT:FALSE
SUMMARY:Preview the Point Admissions Event for PK - 12th grade
DESCRIPTION:Parents\, are you considering making a schooling SWITCH next fall?\n\n\n\nNorthpoint Christian School can help your family MAKE THE SWITCH by coming to Preview the Point.\n\nMark your calendars\, for Sunday\, January 24th at 2:00 PM. Northpoint will be hosting their first Open House of the new year. This open house is specially designed for new\, prospective families with children Pre-K3 through grade 12.\n\n \n\nNCS is conveniently located in DeSoto County near the intersection of Goodman and Getwell Roads. For nearly fifty years the school has been delivering a high-quality and affordable private education that is distinctively and unapologetically Christian.\n\n \n\nCome see why families in 3 states\, 28 cities\, and 41 zip codes have made Northpoint DeSoto County's largest and most desirable Christ-centered\, college preparatory school.\n\n \n\nSchool representatives will be on hand to answer your questions about Northpoint's distinctive approach to school health and safety\, as well as our unmatched academic\, athletic\, and arts offerings.\n\nReserve your spot today by contacting Director of Admissions\, Mrs. Sheila Sheron\, at 662.349.5127.\n\nAgain\, Don't miss out. Reserve your spot for Sunday\, January 24\, at 2 pm and see if you and your family are ready to MAKE THE SWITCH and join the Northpoint Family.
X-ALT-DESC;FMTTYPE=text/html:<div>Parents\, are you considering making a schooling SWITCH next fall?<br />\n<br />\nNorthpoint Christian School can help your family MAKE THE SWITCH by coming to Preview the Point.</div>\n\n<div>Mark your calendars\, for Sunday\, January 24th at 2:00 PM. Northpoint will be hosting their first Open House of the new year. This open house is specially designed for new\, prospective families with children Pre-K3 through grade 12.<br />\n&nbsp\;</div>\n\n<div>NCS is conveniently located in DeSoto County near the intersection of Goodman and Getwell Roads. For nearly fifty years the school has been delivering a high-quality and affordable private education that is distinctively and unapologetically Christian.<br />\n&nbsp\;</div>\n\n<div>Come see why families in 3 states\, 28 cities\, and 41 zip codes have made Northpoint DeSoto County&rsquo\;s largest and most desirable Christ-centered\, college preparatory school.<br />\n&nbsp\;</div>\n\n<div>School representatives will be on hand to answer your questions about Northpoint&rsquo\;s distinctive approach to school health and safety\, as well as our unmatched academic\, athletic\, and arts offerings.</div>\n\n<div>Reserve your spot today by contacting Director of Admissions\, Mrs. Sheila Sheron\, at 662.349.5127.</div>\n\n<div>Again\, Don&rsquo\;t miss out. Reserve your spot for Sunday\, January 24\, at 2 pm and see if you and your family are ready to MAKE THE SWITCH and join the Northpoint Family.</div>\n
LOCATION:Northpoint Christian School 7400 Getwell Road Southaven\, MS 38672
UID:e.512.16567
SEQUENCE:3
DTSTAMP:20260423T033147Z
URL:https://southavenchamber-mosaic-gzcms.preview.gochambermaster.com/events/details/preview-the-point-admissions-event-for-pk-12th-grade-16567
END:VEVENT

END:VCALENDAR
