BEGIN:VCALENDAR
VERSION:2.0
PRODID:-//ChamberMaster//Event Calendar 2.0//EN
METHOD:PUBLISH
X-PUBLISHED-TTL:P3D
REFRESH-INTERVAL:P3D
CALSCALE:GREGORIAN
BEGIN:VEVENT
DTSTART:20200609T150000Z
DTEND:20200609T190000Z
X-MICROSOFT-CDO-ALLDAYEVENT:FALSE
SUMMARY:POSTPONED: Community Shred Day with Iron Mountain
DESCRIPTION:POSTPONED - This Community Shred Day will be rescheduled for a later date in July or August. Stay tuned!\n\n\n\nWe are so excited to bring you the Community Shred Day! If you are new around here\, we try to do at least 2-3 Shred Days a year to give you an opportunity to clean out the documents you no longer need! IRON MOUNTAIN will bring one of their trucks out and offer this great gesture to Southaven and the business community!\n\n\n\n50-lb limit on documents/paper
X-ALT-DESC;FMTTYPE=text/html:<span style="color: rgb(29\, 33\, 41)\; font-family: Helvetica\, Arial\, sans-serif\; font-size: 14px\; white-space: pre-wrap\;"><strong>POSTPONED - This Community Shred Day will be rescheduled for a later date in July or August. Stay tuned!</strong><br>\n<br>\nWe are so excited to bring you the Community Shred Day! If you are new around here\, we try to do at least 2-3 Shred Days a year to give you an opportunity to clean out the documents you no longer need! <strong>IRON MOUNTAIN</strong> will bring one of their trucks out and offer this great gesture to Southaven and the business community!</span><br style="color: rgb(29\, 33\, 41)\; font-family: Helvetica\, Arial\, sans-serif\; font-size: 14px\; white-space: pre-wrap\;">\n<br style="color: rgb(29\, 33\, 41)\; font-family: Helvetica\, Arial\, sans-serif\; font-size: 14px\; white-space: pre-wrap\;">\n<span style="color: rgb(29\, 33\, 41)\; font-family: Helvetica\, Arial\, sans-serif\; font-size: 14px\; white-space: pre-wrap\;">50-lb limit on documents/paper</span>
LOCATION:Southaven Chamber Office 500 Main Street Southaven\, MS 38671
UID:e.512.15891
SEQUENCE:3
DTSTAMP:20260423T183042Z
URL:https://southavenchamber-mosaic-gzcms.preview.gochambermaster.com/events/details/postponed-community-shred-day-with-iron-mountain-15891
END:VEVENT

END:VCALENDAR
