BEGIN:VCALENDAR
VERSION:2.0
PRODID:-//ChamberMaster//Event Calendar 2.0//EN
METHOD:PUBLISH
X-PUBLISHED-TTL:P3D
REFRESH-INTERVAL:P3D
CALSCALE:GREGORIAN
BEGIN:VEVENT
DTSTART:20201121T160000Z
DTEND:20201121T200000Z
X-MICROSOFT-CDO-ALLDAYEVENT:FALSE
SUMMARY:Pecans for SALE at Lowe's Southaven
DESCRIPTION:We will set up at LOWES in Southaven this coming Saturday again from 10-2. Come by and visit\, get your pecans and maybe start your Journey as a Horn Lake Lion....
X-ALT-DESC;FMTTYPE=text/html:<span style="color:rgb(5\, 5\, 5)\; font-family:segoe ui historic\,segoe ui\,helvetica\,arial\,sans-serif\; font-size:15px">We will set up at LOWES in Southaven this coming Saturday again from 10-2. Come by and visit\, get your pecans and maybe start your Journey as a Horn Lake Lion....</span>
LOCATION:Lowe's Southaven 178 Goodman Rd W Southaven\, MS 38671
UID:e.512.16547
SEQUENCE:3
DTSTAMP:20260423T065126Z
URL:https://southavenchamber-mosaic-gzcms.preview.gochambermaster.com/events/details/pecans-for-sale-at-lowe-s-southaven-16547
END:VEVENT

END:VCALENDAR
