BEGIN:VCALENDAR
VERSION:2.0
PRODID:-//ChamberMaster//Event Calendar 2.0//EN
METHOD:PUBLISH
X-PUBLISHED-TTL:P3D
REFRESH-INTERVAL:P3D
CALSCALE:GREGORIAN
BEGIN:VEVENT
DTSTART:20200806T213000Z
DTEND:20200806T233000Z
X-MICROSOFT-CDO-ALLDAYEVENT:FALSE
SUMMARY:Party on the Patio / B2B PM - Canceled
DESCRIPTION:This event has been canceled.
X-ALT-DESC;FMTTYPE=text/html:This event has been canceled.
LOCATION:
UID:e.512.15871
SEQUENCE:3
DTSTAMP:20260423T170537Z
URL:https://southavenchamber-mosaic-gzcms.preview.gochambermaster.com/events/details/party-on-the-patio-b2b-pm-canceled-15871
END:VEVENT

END:VCALENDAR
