BEGIN:VCALENDAR
VERSION:2.0
PRODID:-//ChamberMaster//Event Calendar 2.0//EN
METHOD:PUBLISH
X-PUBLISHED-TTL:P3D
REFRESH-INTERVAL:P3D
CALSCALE:GREGORIAN
BEGIN:VEVENT
DTSTART:20230522T160000Z
DTEND:20230522T230000Z
X-MICROSOFT-CDO-ALLDAYEVENT:FALSE
SUMMARY:Orpheum Golf for Education
DESCRIPTION:Enjoy golf\, food\, and fun while supporting the Orpheum Theatre Group's Education and Community Engagement Programs.\n\nThe 2023 Orpheum Golf for Education Tournament is presented by Bluff City Advisory Group.\n\nThis year the event will be held at Windyke Country Club\, and includes the following:\n\n\n	Registration and Lunch at 11:00am\n	Tee time for four-person scramble at 1pm\n	Post-play cocktails and awards at 5pm\n	Team prizes for first\, second and third place\n	Variety of contests including all of your favorites like Closest to the Pin and Putting with NEW options to tap into\n	Four-person teams available for $2500\n	Sponsorship options starting at $500 \n\nLearn more and register at https://orpheum-memphis.com/event/orpheum-golf
X-ALT-DESC;FMTTYPE=text/html:<p>Enjoy golf\, food\, and fun while supporting the Orpheum Theatre Group&rsquo\;s Education and Community Engagement Programs.</p>\n\n<p><strong>The 2023 Orpheum Golf for Education Tournament is presented by Bluff City Advisory Group.</strong></p>\n\n<p>This year the event will be held at&nbsp\;<a href="https://www.windyke.com/" rel="noopener" style="box-sizing: border-box\; background-color: transparent\; color: rgb(219\, 182\, 39)\; -webkit-font-smoothing: antialiased\;" target="_blank" title="Windyke Country Club">Windyke Country Club</a>\, and includes the following:</p>\n\n<ul>\n	<li>Registration and Lunch at 11:00am</li>\n	<li>Tee time for four-person scramble at 1pm</li>\n	<li>Post-play cocktails and awards at 5pm</li>\n	<li>Team prizes for first\, second and third place</li>\n	<li>Variety of contests including all of your favorites like Closest to the Pin and Putting with NEW options to tap into</li>\n	<li>Four-person teams available for $2500</li>\n	<li>Sponsorship options starting at $500&nbsp\;</li>\n</ul>\nLearn more and register at&nbsp\;https://orpheum-memphis.com/event/orpheum-golf
LOCATION:Windyke Country Club 8535 Winchester Rd\, Memphis\, TN 38125
UID:e.512.18543
SEQUENCE:3
DTSTAMP:20260420T020703Z
URL:https://southavenchamber-mosaic-gzcms.preview.gochambermaster.com/events/details/orpheum-golf-for-education-18543
END:VEVENT

END:VCALENDAR
