BEGIN:VCALENDAR
VERSION:2.0
PRODID:-//ChamberMaster//Event Calendar 2.0//EN
METHOD:PUBLISH
X-PUBLISHED-TTL:P3D
REFRESH-INTERVAL:P3D
CALSCALE:GREGORIAN
BEGIN:VEVENT
DTSTART:20220525T163000Z
DTEND:20220525T180000Z
X-MICROSOFT-CDO-ALLDAYEVENT:FALSE
SUMMARY:On The Menu: Leadership - Making A Difference
DESCRIPTION:On The Menu\, 11:30AM - 1PM\, SERVPRO\, 1160 Stateline Rd. E\, Southaven\, MS 38671: Join us and the Southaven Young Professionals for their next On The Menu themed "Leadership: Making A Difference." Jeff Jones with eXp Realty Group will teach us how to involve and invest in others as well as help us look at the long term and see the big picture. This event is open to ALL ages\, so bring a co-worker and business cards. Lunch is included with registration - $15 per person.
X-ALT-DESC;FMTTYPE=text/html:<strong style="color: rgb(51\, 51\, 51)\; font-family: sans-serif\, Arial\, Verdana\, &quot\;Trebuchet MS&quot\;\; font-size: 13px\;"><span style="font-family: tahoma\, sans-serif\;"><span style="font-size: 16pt\;">On The Menu\, 11:30AM - 1PM\, SERVPRO\, 1160 Stateline Rd. E\, Southaven\, MS 38671:&nbsp\;</span></span></strong><span style="color: rgb(51\, 51\, 51)\; font-size: 13px\; font-family: tahoma\, sans-serif\;"><span style="font-size: 16pt\;">Join us and the Southaven Young Professionals for their next On The Menu themed &quot\;Leadership: Making A Difference.&quot\; Jeff Jones with eXp Realty Group will teach us how to involve and invest in others as well as help us look at the long term and see the big picture. This event is open to ALL ages\, so bring a co-worker and business cards. Lunch is included with registration - $15 per person.</span></span>
LOCATION:SERVPRO 1160 Stateline Rd. E Southaven\, MS 38671
UID:e.512.17260
SEQUENCE:3
DTSTAMP:20260421T171012Z
URL:https://southavenchamber-mosaic-gzcms.preview.gochambermaster.com/events/details/on-the-menu-leadership-making-a-difference-17260
END:VEVENT

END:VCALENDAR
