BEGIN:VCALENDAR
VERSION:2.0
PRODID:-//ChamberMaster//Event Calendar 2.0//EN
METHOD:PUBLISH
X-PUBLISHED-TTL:P3D
REFRESH-INTERVAL:P3D
CALSCALE:GREGORIAN
BEGIN:VEVENT
DTSTART:20230419T163000Z
DTEND:20230419T180000Z
X-MICROSOFT-CDO-ALLDAYEVENT:FALSE
SUMMARY:On the Menu - 2023 (4/19)
DESCRIPTION:On The Menu\, 11:30AM - 1PM\, Turn Key Realty Group\, 720 Goodman Rd. E\, Southaven\, MS 38671: Join us and the Southaven Young Professionals for their next On The Menu themed Animating Your Brand by Terrance "TJ" Green\, owner of TJ's Animation Workshop. This event is open to ALL ages\, so bring a co-worker and business cards. Lunch is included with registration - $15 per person.
X-ALT-DESC;FMTTYPE=text/html:<strong><span style="color:#333333\;"><span style="font-family:tahoma\,sans-serif\;"><span style="font-size:16.0pt\;">On The Menu\, 11:30AM - 1PM\, Turn Key Realty Group\, 720 Goodman Rd. E\, Southaven\, MS 38671:&nbsp\;</span></span></span></strong><span style="color:#333333\;"><span style="font-family:tahoma\,sans-serif\;"><span style="font-size:16.0pt\;">Join us and the Southaven Young Professionals for their next On The Menu themed Animating Your Brand by Terrance &ldquo\;TJ&rdquo\; Green\, owner of TJ&rsquo\;s Animation Workshop. This event is open to ALL ages\, so bring a co-worker and business cards. Lunch is included with registration - $15 per person.</span></span></span>
LOCATION:Turn Key Realty Group 720 Goodman Rd. E Southaven\, MS 38671
UID:e.512.18193
SEQUENCE:3
DTSTAMP:20260420T034547Z
URL:https://southavenchamber-mosaic-gzcms.preview.gochambermaster.com/events/details/on-the-menu-2023-4-19-18193
END:VEVENT

END:VCALENDAR
