BEGIN:VCALENDAR
VERSION:2.0
PRODID:-//ChamberMaster//Event Calendar 2.0//EN
METHOD:PUBLISH
X-PUBLISHED-TTL:P3D
REFRESH-INTERVAL:P3D
CALSCALE:GREGORIAN
BEGIN:VEVENT
DTSTART;VALUE=DATE:20190603
DTEND;VALUE=DATE:20190614
TRANSP:TRANSPARENT
X-MICROSOFT-CDO-ALLDAYEVENT:TRUE
SUMMARY:Nominate your dad for Chick-fil-A Southaven prize package
DESCRIPTION:Tell why your dad is the best dad ever and he may win the Chick-fil-A Southaven prize package.  Follow the link:  https://forms.gle/QHZ5J44aQfTnUENe8
X-ALT-DESC;FMTTYPE=text/html:Tell why your dad is the best dad ever and he may win the Chick-fil-A Southaven prize package.&nbsp\; Follow the link:&nbsp\;&nbsp\;https://forms.gle/QHZ5J44aQfTnUENe8
LOCATION:
UID:e.512.12452
SEQUENCE:3
DTSTAMP:20260424T191902Z
URL:https://southavenchamber-mosaic-gzcms.preview.gochambermaster.com/events/details/nominate-your-dad-for-chick-fil-a-southaven-prize-package-12452
END:VEVENT

END:VCALENDAR
