BEGIN:VCALENDAR
VERSION:2.0
PRODID:-//ChamberMaster//Event Calendar 2.0//EN
METHOD:PUBLISH
X-PUBLISHED-TTL:P3D
REFRESH-INTERVAL:P3D
CALSCALE:GREGORIAN
BEGIN:VEVENT
DTSTART:20200224T000000Z
DTEND:20200224T020000Z
X-MICROSOFT-CDO-ALLDAYEVENT:FALSE
SUMMARY:Murder Mystery at Mesquite Chop House
DESCRIPTION:Join us for a fun night of delicious food\, cold cocktails and a Murder Mystery! Guests should arrive at 6pm to receive assignments and mix and mingle. Dinner will start at approximately 6:30. There will be 3 courses\, accompanied by 3 acts with audience participation. A fun event for a date night or friends night out!\n\n \n\n**SEATING IS FIRST COME FIRST SERVE*
X-ALT-DESC;FMTTYPE=text/html:<p style="margin: 0px\; padding: 0px\; color: rgb(111\, 114\, 135)\; font-family: &quot\;Neue Plak&quot\;\, -apple-system\, BlinkMacSystemFont\, Roboto\, &quot\;Helvetica Neue&quot\;\, Helvetica\, Tahoma\, Arial\, sans-serif\; font-size: 14.9333px\; letter-spacing: 0.5px\;"><span style="color:#000000\;"><span style="font-family:verdana\;"><span style="padding-top: 0px\;">Join us for a fun night of delicious food\, cold cocktails and a Murder Mystery! Guests should arrive at 6pm to receive assignments and mix and mingle. Dinner will start at approximately 6:30. There will be 3 courses\, accompanied by 3 acts with audience participation. A fun event for a date night or friends night out!</span></span></span></p>\n\n<p style="margin: 0px\; padding: 10px 0px 0px\; color: rgb(111\, 114\, 135)\; font-family: &quot\;Neue Plak&quot\;\, -apple-system\, BlinkMacSystemFont\, Roboto\, &quot\;Helvetica Neue&quot\;\, Helvetica\, Tahoma\, Arial\, sans-serif\; font-size: 14.9333px\; letter-spacing: 0.5px\;">&nbsp\;</p>\n\n<p style="margin: 0px\; padding: 10px 0px 0px\; color: rgb(111\, 114\, 135)\; font-family: &quot\;Neue Plak&quot\;\, -apple-system\, BlinkMacSystemFont\, Roboto\, &quot\;Helvetica Neue&quot\;\, Helvetica\, Tahoma\, Arial\, sans-serif\; font-size: 14.9333px\; letter-spacing: 0.5px\;"><span style="color:#000000\;"><span style="font-family:verdana\;"><span style="padding-top: 0px\;">**SEATING IS FIRST COME FIRST SERVE*</span></span></span></p>\n
LOCATION:Mesquite Chop House 5960 Getwell Road Southaven\, MS
UID:e.512.15999
SEQUENCE:3
DTSTAMP:20260424T013918Z
URL:https://southavenchamber-mosaic-gzcms.preview.gochambermaster.com/events/details/murder-mystery-at-mesquite-chop-house-15999
END:VEVENT

END:VCALENDAR
