BEGIN:VCALENDAR
VERSION:2.0
PRODID:-//ChamberMaster//Event Calendar 2.0//EN
METHOD:PUBLISH
X-PUBLISHED-TTL:P3D
REFRESH-INTERVAL:P3D
CALSCALE:GREGORIAN
BEGIN:VEVENT
DTSTART:20190413T230000Z
DTEND:20190414T020000Z
X-MICROSOFT-CDO-ALLDAYEVENT:FALSE
SUMMARY:Mudbug Bash - Palmer Home for Children
DESCRIPTION:15th Annual Mudbug Bash\n\nThe Palmer Home for Children is hosting their 15th Annual Mudbug Bash on April 13th! This is an incredible organization that does so much good for the children in our community\, and this is a great way for us to support them. For tickets & sponsorship info\, visit palmerhome.ticketspice.com/mudbug-bash-2019
X-ALT-DESC;FMTTYPE=text/html:15th Annual Mudbug Bash<br />\n<span style="font-family: -apple-system\, BlinkMacSystemFont\, &quot\;Segoe UI&quot\;\, Roboto\, Helvetica\, Arial\, sans-serif\; font-size: 14px\; background-color: rgb(255\, 255\, 255)\;">The Palmer Home for Children is hosting their 15th Annual Mudbug Bash on April 13th! This is an incredible organization that does so much good for the children in our community\, and this is a great way for us to support them. For tickets &amp\; sponsorship info\, visit palmerhome.ticketspice.com/mudbug-bash-2019&nbsp\;</span>
LOCATION:The Palmer Home for Children
UID:e.512.12402
SEQUENCE:3
DTSTAMP:20260424T200825Z
URL:https://southavenchamber-mosaic-gzcms.preview.gochambermaster.com/events/details/mudbug-bash-palmer-home-for-children-12402
END:VEVENT

END:VCALENDAR
