BEGIN:VCALENDAR
VERSION:2.0
PRODID:-//ChamberMaster//Event Calendar 2.0//EN
METHOD:PUBLISH
X-PUBLISHED-TTL:P3D
REFRESH-INTERVAL:P3D
CALSCALE:GREGORIAN
BEGIN:VEVENT
DTSTART;VALUE=DATE:20181020
DTEND;VALUE=DATE:20181021
TRANSP:TRANSPARENT
X-MICROSOFT-CDO-ALLDAYEVENT:TRUE
SUMMARY:MS (I/C) Enhanced Carry Basic Course
DESCRIPTION:Sign Up before it Fills Up!!\n\n**Please Share\n\nEnhanced Carry\n\nEnhanced Carry and Handgun Safety Training.\n\nOctober 20\, 2018\n\nThis class satisfies the Requirements for you to obtain you I/C Endorsement (Enhanced Carry) on your MS Firearms Permit.\n\nEven if you already have your Enhanced Carry this is a great refresher and Continuing Education course for safe gun handling and firearms skills!\n\nBuild your Confidence in your ability to protect yourself and your family with our highly motivated team of Instructors.\n\nIt is your weapon\, you should be confident in your ability to use it\, not just to have an endorsement on your permit. But to have a mindset that you know you are ready for any situation!\n\n \n\nWe have a Staff of highly trained men and women who are Certified Firearms Instructors and Range Safety Officers where you will get a lot of one on one training.\n\nYou will always leave all of our Training Courses with the feeling of Empowerment!\n\nThe cost of the class is only $85.00\n\nSaturday October 20\, 2018\n\nOur Range is covered so we will Shoot Rain or Shine!!\n\nContact me for more information!\n\nGarry Welch\n\n662.587.1101\n\nInfo@tacticalshoot.com\n\n \n\nGo to tacticalshoot.com to enroll or for more information.
X-ALT-DESC;FMTTYPE=text/html:<br />\n<span style="font-size:14pt">Sign Up before it Fills Up!!</span><br />\n<span style="font-size:14pt">**Please Share</span><br />\n<strong><span style="font-size:16pt">Enhanced Carry</span></strong><br />\n<span style="font-size:14pt">Enhanced Carry and Handgun Safety Training.</span><br />\n<span style="font-size:14pt">October 20\, 2018</span><br />\n<span style="font-size:14pt">This class satisfies the Requirements for you to obtain you I/C Endorsement (Enhanced Carry) on your MS Firearms Permit.</span><br />\n<span style="font-size:14pt">Even if you already have your Enhanced Carry this is a great refresher and Continuing Education course for safe gun handling and firearms skills!</span><br />\n<span style="font-size:14pt">Build your Confidence in your ability to protect yourself and your family with our highly motivated team of Instructors.</span><br />\n<span style="font-size:14pt">It is your weapon\, you should be confident in your ability to use it\, not just to have an endorsement on your permit. But to have a mindset that you know you are ready for any situation!</span><br />\n&nbsp\;<br />\n<span style="font-size:14pt">We have a Staff of highly trained men and women who are Certified Firearms Instructors and Range Safety Officers where you will get a lot of one on one training.</span><br />\n<span style="font-size:14pt">You will always leave all of our Training Courses with the feeling of Empowerment!</span><br />\n<span style="font-size:14pt">The cost of the class is only $85.00</span><br />\n<span style="font-size:14pt">Saturday October 20\, 2018</span><br />\n<span style="font-size:14pt">Our Range is covered so we will Shoot Rain or Shine!!</span><br />\n<span style="font-size:14pt">Contact me for more information!</span><br />\n<span style="font-size:14pt">Garry Welch</span><br />\n<span style="font-size:14pt">662.587.1101</span><br />\n<span style="font-size:14pt">Info@tacticalshoot.com</span><br />\n&nbsp\;<br />\n<span style="font-size:14pt">Go to tacticalshoot.com to enroll or for more information.</span><br />\n&nbsp\;<br />\n&nbsp\;<br />\n&nbsp\;<br />\n&nbsp\;<br />\n&nbsp\;
LOCATION:Kingdom Elite Tactical Range & Training Complex
UID:e.512.10499
SEQUENCE:3
DTSTAMP:20260425T034745Z
URL:https://southavenchamber-mosaic-gzcms.preview.gochambermaster.com/events/details/ms-i-c-enhanced-carry-basic-course-10-20-2018-10499
END:VEVENT

END:VCALENDAR
