BEGIN:VCALENDAR
VERSION:2.0
PRODID:-//ChamberMaster//Event Calendar 2.0//EN
METHOD:PUBLISH
X-PUBLISHED-TTL:P3D
REFRESH-INTERVAL:P3D
CALSCALE:GREGORIAN
BEGIN:VEVENT
DTSTART:20220617T190000Z
DTEND:20220617T210000Z
X-MICROSOFT-CDO-ALLDAYEVENT:FALSE
SUMMARY:Movie Matinee
DESCRIPTION:
X-ALT-DESC;FMTTYPE=text/html:
LOCATION:M. R. Davis Public Library 8554 Northwest Drive Southaven MS 38671
UID:e.512.17281
SEQUENCE:3
DTSTAMP:20260421T142700Z
URL:https://southavenchamber-mosaic-gzcms.preview.gochambermaster.com/events/details/movie-matinee-17281
END:VEVENT

END:VCALENDAR
