BEGIN:VCALENDAR
VERSION:2.0
PRODID:-//ChamberMaster//Event Calendar 2.0//EN
METHOD:PUBLISH
X-PUBLISHED-TTL:P3D
REFRESH-INTERVAL:P3D
CALSCALE:GREGORIAN
BEGIN:VEVENT
DTSTART:20190822T140000Z
DTEND:20190822T180000Z
X-MICROSOFT-CDO-ALLDAYEVENT:FALSE
SUMMARY:Mid-South Area Job Fair
DESCRIPTION:The Mid-South Area JOB FAIR will take place on Thursday\, August 22nd from 9:00am-1:00pm at Brown Baptist Church Family Life Center. There will be NO admission fee! Visit jobfairs.ms.gov for listings\, & contact your local WIN Job Center for resume help.
X-ALT-DESC;FMTTYPE=text/html:<span style="color: rgb(28\, 30\, 33)\; font-family: Helvetica\, Arial\, sans-serif\; font-size: 14px\; background-color: rgb(255\, 255\, 255)\;">The Mid-South Area JOB FAIR will take place on Thursday\, August 22nd from 9:00am-1:00pm at Brown Baptist Church Family Life Center. There will be NO admission fee! Visit&nbsp\;</span><a data-ft="{&quot\;tn&quot\;:&quot\;-U&quot\;}" data-lynx-mode="async" data-lynx-uri="https://l.facebook.com/l.php?u=http%3A%2F%2Fjobfairs.ms.gov%2F%3Ffbclid%3DIwAR17U6zUXdb4YO001-tUfeuzhU1dCIsNb37-7OkcuRfaKFXkAEhVD0x2A6U&amp\;h=AT1E0nDNerjl8-1QOa9ifyAK0kEnIWcFBto-6hrsG7oXfMOCpZRKxKJwkaoGmCiO_JvP8NULiLKrFcb9Efzxkb4AusZah_0BBj4bBauSWnapKxvEuB5JATGBKzsf2s2JKguP4aYK_nIhCVVFH-jtsrM2_obaeJV_QT6WtT63L9_dYwtMGACj-pbwpJ5pz93pt9ASYDT3g0EhNqx4dA2onh7xsOOspaAnUidxbgF8jkvHW56a4VcI5JETw1Smdu3Rsidm4dnYyJwu3_YhPrLKkNgBB1QTlb0rmjpq2nBtuy0q6unRaVMZ9SOzlPdRzHrM6OrlZDZYob4GiN5ZHD5EsPU5o_6A_m11pIns6s6RC-bV0FaVtQOemt6F6UBeKGIt_X4LC_Ccr4kmx08ZZlHzakpg7RPAlduUchLNt8A4yQNMKrQdIiIPyAXv9eEYAL4l-sPpyjmwS_ohLiaeHELZd_N7p1Wpp2DIF_m5ykshGtwOhyUu5DOpLf4IcqV6pCE6zfAsJSXZPNwVZ9ie3vrJ-Rm7fjl9Nm_f78NjLLvVTbIuiQKYgNEIfdLi_08QAjNCdnYjlj5FYYx3lo75jeh-Gk-p5_Fnkxo3fFZhDXwpWZNdsa85LEg640PO" href="http://jobfairs.ms.gov/?fbclid=IwAR17U6zUXdb4YO001-tUfeuzhU1dCIsNb37-7OkcuRfaKFXkAEhVD0x2A6U" rel="noopener nofollow" style="color: rgb(56\, 88\, 152)\; cursor: pointer\; text-decoration-line: none\; font-family: Helvetica\, Arial\, sans-serif\; font-size: 14px\; background-color: rgb(255\, 255\, 255)\;" target="_blank">jobfairs.ms.gov</a><span style="color: rgb(28\, 30\, 33)\; font-family: Helvetica\, Arial\, sans-serif\; font-size: 14px\; background-color: rgb(255\, 255\, 255)\;">&nbsp\;for listings\, &amp\; contact your local WIN Job Center for resume help.&nbsp\;</span>
LOCATION:Brown Baptist Church Family Life Center
UID:e.512.14917
SEQUENCE:3
DTSTAMP:20260424T135026Z
URL:https://southavenchamber-mosaic-gzcms.preview.gochambermaster.com/events/details/mid-south-area-job-fair-14917
END:VEVENT

END:VCALENDAR
