BEGIN:VCALENDAR
VERSION:2.0
PRODID:-//ChamberMaster//Event Calendar 2.0//EN
METHOD:PUBLISH
X-PUBLISHED-TTL:P3D
REFRESH-INTERVAL:P3D
CALSCALE:GREGORIAN
BEGIN:VEVENT
DTSTART:20191023T150000Z
DTEND:20191023T200000Z
X-MICROSOFT-CDO-ALLDAYEVENT:FALSE
SUMMARY:Member Appreciation Day 2019
DESCRIPTION:***** Member Appreciation Day 2019 ****                 ***FREE EVENT***\n\n  International Credit Union Member Appreciation Day is Oct.17th. SecurTrust will celebrate its members on Oct.23rd from 10:00 am until 3:00 pm. Refreshments will be served. Members will have a chance to register for gift cards totaling $350.00. Each hour we will pull a name a award a gift card. Also\, we are still running the Candy Counting Contest. Guess how many candies are in the jar for another chance to win a $100 gift card!!!!!\n\n\n\n$25 gift card 10:00 am\n\n$25 gift card 11:00 am\n\n$50 gift card 12:00 pm\n\n$50 gift card  1:00 pm\n\n$100 gift card 2:00 pm\n\n$100 gift card 3:00 pm
X-ALT-DESC;FMTTYPE=text/html:<strong>***** Member Appreciation Day 2019 ****</strong>&nbsp\; &nbsp\; &nbsp\; &nbsp\; &nbsp\; &nbsp\; &nbsp\; <strong>&nbsp\; &nbsp\;***FREE EVENT***</strong><br />\n&nbsp\; International Credit Union Member Appreciation Day is Oct.17th. SecurTrust will celebrate its members on Oct.23rd from 10:00 am until 3:00 pm. Refreshments will be served. Members will have a chance to register for gift cards totaling $350.00. Each hour we will pull a name a award a gift card. Also\, we are still running the Candy Counting Contest. Guess how many candies are in the jar for another chance to win a $100 gift card!!!!!<br />\n<br />\n<span style="font-size:14px"><strong><em>$25 gift card 10:00 am<br />\n$25 gift card 11:00 am<br />\n$50 gift card 12:00 pm<br />\n$50 gift card&nbsp\; 1:00 pm<br />\n$100 gift card 2:00 pm<br />\n$100 gift card 3:00 pm</em></strong></span>
LOCATION:SecurTrust Federal Credit Union 3870 Goodman Rd. E. Southaven\, MS. 38672
UID:e.512.15769
SEQUENCE:3
DTSTAMP:20260424T083439Z
URL:https://southavenchamber-mosaic-gzcms.preview.gochambermaster.com/events/details/member-appreciation-day-2019-15769
END:VEVENT

END:VCALENDAR
