BEGIN:VCALENDAR
VERSION:2.0
PRODID:-//ChamberMaster//Event Calendar 2.0//EN
METHOD:PUBLISH
X-PUBLISHED-TTL:P3D
REFRESH-INTERVAL:P3D
CALSCALE:GREGORIAN
BEGIN:VEVENT
DTSTART:20220712T150000Z
DTEND:20220712T160000Z
X-MICROSOFT-CDO-ALLDAYEVENT:FALSE
SUMMARY:Medicare Educational Workshop
DESCRIPTION:Join us for complimentary refreshments!\n\n\n\nLearn about Medicare at an educational workshop.\n\nIf you're newly eligible for Medicare or turning 65\, please join us for a Medicare educational workshop in your neighborhood.* The more you know\, the more prepared you'll be to evaluate benefits and costs\, and choose the plan that's right for you.\n\n\n\nRetiring soon? We'll talk about:\n\n	Medicare Parts A\, B\, C and D\, and what they cover\n	When you can enroll\n	Medicare options\n	Eligibility\n\nHumana does what's necessary to help you get the care you need. That's human care\, and it's part of everything Humana does.\n\n\n\nCall Clayt Gates for more information at (662) 638-8404 (TTY: 711) or email him at cgates10@humana.com.\n\n\n\nHumana.com/CGates10\n\n\n\n*Refreshments provided at no cost and no obligation to enroll.
X-ALT-DESC;FMTTYPE=text/html:Join us for complimentary refreshments!<br />\n<br />\n<strong>Learn about Medicare at an educational workshop.</strong><br />\nIf you&#39\;re newly eligible for Medicare or turning 65\, please join us for a Medicare educational workshop in your neighborhood.* The more you know\, the more prepared you&#39\;ll be to evaluate benefits and costs\, and choose the plan that&#39\;s right for you.<br />\n<br />\n<strong>Retiring soon? We&#39\;ll talk about:</strong>\n<ul>\n	<li>Medicare Parts A\, B\, C and D\, and what they cover</li>\n	<li>When you can enroll</li>\n	<li>Medicare options</li>\n	<li>Eligibility</li>\n</ul>\nHumana does what&#39\;s necessary to help you get the care you need. That&#39\;s human care\, and it&#39\;s part of everything Humana does.<br />\n<br />\nCall Clayt Gates for more information at (662) 638-8404 (TTY: 711) or email him at cgates10@humana.com.<br />\n<br />\n<a href="http://Humana.com/cgates10">Humana.com/CGates10</a><br />\n<br />\n*Refreshments provided at no cost and no obligation to enroll.
LOCATION:
UID:e.512.17304
SEQUENCE:3
DTSTAMP:20260421T061436Z
URL:https://southavenchamber-mosaic-gzcms.preview.gochambermaster.com/events/details/medicare-educational-workshop-07-12-2022-17304
END:VEVENT

END:VCALENDAR
