BEGIN:VCALENDAR
VERSION:2.0
PRODID:-//ChamberMaster//Event Calendar 2.0//EN
METHOD:PUBLISH
X-PUBLISHED-TTL:P3D
REFRESH-INTERVAL:P3D
CALSCALE:GREGORIAN
BEGIN:VEVENT
DTSTART:20180124T000000Z
DTEND:20180124T020000Z
X-MICROSOFT-CDO-ALLDAYEVENT:FALSE
SUMMARY:Magic by Puff at Chick-fil-A Southaven
DESCRIPTION:Come out for Family Date Night and we will a Magic Show with Puff the Magician and Craft time with Ms Nettie
X-ALT-DESC;FMTTYPE=text/html:Come out for Family Date Night and we will a Magic Show with Puff the Magician and Craft time with Ms Nettie
LOCATION:235 goodman road west\, southaven\, ms
UID:e.512.6887
SEQUENCE:3
DTSTAMP:20260426T020116Z
URL:https://southavenchamber-mosaic-gzcms.preview.gochambermaster.com/events/details/magic-by-puff-at-chick-fil-a-southaven-6887
END:VEVENT

END:VCALENDAR
