BEGIN:VCALENDAR
VERSION:2.0
PRODID:-//ChamberMaster//Event Calendar 2.0//EN
METHOD:PUBLISH
X-PUBLISHED-TTL:P3D
REFRESH-INTERVAL:P3D
CALSCALE:GREGORIAN
BEGIN:VEVENT
DTSTART:20190130T173000Z
DTEND:20190130T190000Z
X-MICROSOFT-CDO-ALLDAYEVENT:FALSE
SUMMARY:Lunch & Learn: Google 101 Building your Business Online
DESCRIPTION:Google 101 for Business presented by Felicia Christian with Buzz Multimedia Group \n\n*food provided by McAlister's Deli*
X-ALT-DESC;FMTTYPE=text/html:<span style="font-size:14px\;"><span style="color:#403F42\;"><span style="font-family:arial\,sans-serif\;">Google 101 for Business </span></span><span style="color:#403F42\;"><span style="font-family:arial\,sans-serif\;">presented by Felicia Christian with Buzz Multimedia Group&nbsp\;<br />\n*food provided by McAlister&#39\;s Deli*&nbsp\;</span></span></span>
LOCATION:Southaven Chamber of Commerce 500 Main Street Southaven MS 38671
UID:e.512.8837
SEQUENCE:3
DTSTAMP:20260424T235656Z
URL:https://southavenchamber-mosaic-gzcms.preview.gochambermaster.com/events/details/lunch-learn-google-101-building-your-business-online-8837
END:VEVENT

END:VCALENDAR
