BEGIN:VCALENDAR
VERSION:2.0
PRODID:-//ChamberMaster//Event Calendar 2.0//EN
METHOD:PUBLISH
X-PUBLISHED-TTL:P3D
REFRESH-INTERVAL:P3D
CALSCALE:GREGORIAN
BEGIN:VEVENT
DTSTART:20191010T170000Z
DTEND:20191010T180000Z
X-MICROSOFT-CDO-ALLDAYEVENT:FALSE
SUMMARY:Lunch & Learn- CBD The Science\, Product\, and Business
DESCRIPTION:Learn about the Science of CBD and why it works!\n\n\n\nLearn how to take part in the Business of this "Market Disruptor" and Natural Health Phenomenon.\n\n\n\nHosted by Kristy Ferguson\, Dan Lehman\, and Amy Redden-Smith
X-ALT-DESC;FMTTYPE=text/html:Learn about the Science of CBD and why it works!<br />\n<br />\nLearn how to take part in the Business of this &quot\;Market Disruptor&quot\; and Natural Health Phenomenon.<br />\n<br />\nHosted by Kristy Ferguson\, Dan Lehman\, and Amy Redden-Smith
LOCATION:Southaven Chamber of Commerce- 500 Main Street
UID:e.512.15638
SEQUENCE:3
DTSTAMP:20260424T164905Z
URL:https://southavenchamber-mosaic-gzcms.preview.gochambermaster.com/events/details/lunch-learn-cbd-the-science-product-and-business-15638
END:VEVENT

END:VCALENDAR
