BEGIN:VCALENDAR
VERSION:2.0
PRODID:-//ChamberMaster//Event Calendar 2.0//EN
METHOD:PUBLISH
X-PUBLISHED-TTL:P3D
REFRESH-INTERVAL:P3D
CALSCALE:GREGORIAN
BEGIN:VEVENT
DTSTART:20190925T163000Z
DTEND:20190925T180000Z
X-MICROSOFT-CDO-ALLDAYEVENT:FALSE
SUMMARY:Lunch & Learn: Cash Flow Crash Course for Small Business
DESCRIPTION:BancorpSouth presents vital information for small business owners and bookeepers! Learn the purpose\, management\, how to project\, details of your cash flow statement\, and an overall view of the start up of a business' cash flow. \n\n\n\nLunch will be provided by Saki Endless Sushi and Hibachi!
X-ALT-DESC;FMTTYPE=text/html:BancorpSouth presents vital information for small business owners and bookeepers! Learn the purpose\, management\, how to project\, details of your cash flow statement\, and an overall view of the start up of a business&#39\; cash flow.&nbsp\;<br />\n<br />\nLunch will be provided by Saki Endless Sushi and Hibachi!&nbsp\;
LOCATION:ServPro of DeSoto\,Tate and Tunica Counties 1160 Stateline Rd E Southaven MS 38671
UID:e.512.12382
SEQUENCE:3
DTSTAMP:20260424T135025Z
URL:https://southavenchamber-mosaic-gzcms.preview.gochambermaster.com/events/details/lunch-learn-cash-flow-crash-course-for-small-business-12382
END:VEVENT

END:VCALENDAR
