BEGIN:VCALENDAR
VERSION:2.0
PRODID:-//ChamberMaster//Event Calendar 2.0//EN
METHOD:PUBLISH
X-PUBLISHED-TTL:P3D
REFRESH-INTERVAL:P3D
CALSCALE:GREGORIAN
BEGIN:VEVENT
DTSTART:20221103T230000Z
DTEND:20221104T000000Z
X-MICROSOFT-CDO-ALLDAYEVENT:FALSE
SUMMARY:Join us for a FREE Educational Medicare Seminar
DESCRIPTION:We will be hosting a Free Medicare Educational Seminar this Friday\, Nov. 4th\, 11am @ The Southaven Chamber of Commerce. Enjoy refreshments as we discuss the truth about the differences from Original Medicare vs. Medicare Advantage. The annual enrollment window brings with it hot topics this time of year and we hope to bring more clarity to your healthcare choices.\n\n\n\nCall me at (662) 782-1491 to save your spot today! You can also reserve your seat by visiting the link below!\n\n\n\nThank you!\n\nhttps://benefitsquote.typeform.com/to/cu2PpPvi
X-ALT-DESC;FMTTYPE=text/html:<span style="color:#050505"><span style="font-family:segoe ui historic\,sans-serif"><span style="font-size:11.5pt">We will be hosting a Free Medicare Educational Seminar this Friday\, Nov. 4th\, 11am @ The Southaven Chamber of Commerce. Enjoy refreshments as we discuss the truth about the differences from Original Medicare vs. Medicare Advantage. The annual enrollment window brings with it hot topics this time of year and we hope to bring more clarity to your healthcare choices.</span></span></span><br />\n<br />\n<span style="color:#050505"><span style="font-family:segoe ui historic\,sans-serif"><span style="font-size:11.5pt">Call me at (662) 782-1491 to save your spot today! You can also reserve your seat by visiting the link below!<br />\n<br />\nThank you!</span></span></span><br />\n<span style="color:#050505"><span style="font-family:inherit"><span style="font-size:11.5pt"><a href="https://benefitsquote.typeform.com/to/cu2PpPvi?fbclid=IwAR1Tl9hAnGLRMXGyOmDfJ7oyt5je6nHFtSZ7PNabXcmQInzpljMX0u7pb74" target="_blank">https://benefitsquote.typeform.com/to/cu2PpPvi</a></span></span></span>
LOCATION:Cordova Community Center 1017N Sanga Rd. Cordova\, TN 38018
UID:e.512.18126
SEQUENCE:3
DTSTAMP:20260420T182420Z
URL:https://southavenchamber-mosaic-gzcms.preview.gochambermaster.com/events/details/join-us-for-a-free-educational-medicare-seminar-18126
END:VEVENT

END:VCALENDAR
