BEGIN:VCALENDAR
VERSION:2.0
PRODID:-//ChamberMaster//Event Calendar 2.0//EN
METHOD:PUBLISH
X-PUBLISHED-TTL:P3D
REFRESH-INTERVAL:P3D
CALSCALE:GREGORIAN
BEGIN:VEVENT
DTSTART:20230911T140000Z
DTEND:20230911T180000Z
X-MICROSOFT-CDO-ALLDAYEVENT:FALSE
SUMMARY:Job Fair
DESCRIPTION:QS PROFESSIONAL IN SOUTHAVEN IS LOOKING FOR WELDERS!!\n\n\n\nBegins:\n\n9:00 am\, September 11\, 2023\n\nEnds:\n\n1:00 pm\, September 11\, 2023\n\n\n\nSouthaven Chamber of Commerce\n\n500 Main St\, Southaven\, MS 38671
X-ALT-DESC;FMTTYPE=text/html:QS PROFESSIONAL IN SOUTHAVEN IS LOOKING FOR WELDERS!!<br />\n<br />\nBegins:<br />\n9:00 am\, September 11\, 2023<br />\nEnds:<br />\n1:00 pm\, September 11\, 2023<br />\n<br />\nSouthaven Chamber of Commerce<br />\n500 Main St\, Southaven\, MS 38671<br />\n&nbsp\;
LOCATION:
UID:e.512.18843
SEQUENCE:3
DTSTAMP:20260419T180610Z
URL:https://southavenchamber-mosaic-gzcms.preview.gochambermaster.com/events/details/job-fair-09-11-2023-18843
END:VEVENT

END:VCALENDAR
