BEGIN:VCALENDAR
VERSION:2.0
PRODID:-//ChamberMaster//Event Calendar 2.0//EN
METHOD:PUBLISH
X-PUBLISHED-TTL:P3D
REFRESH-INTERVAL:P3D
CALSCALE:GREGORIAN
BEGIN:VEVENT
DTSTART;VALUE=DATE:20180505
DTEND;VALUE=DATE:20180506
TRANSP:TRANSPARENT
X-MICROSOFT-CDO-ALLDAYEVENT:TRUE
SUMMARY:Intermediate Handgun Training Course
DESCRIPTION:Intermediate Shooter's Course\n\nThis is your next Level Training Course after you have completed your Enhanced Carry Course.\n\nIt is not recommended for Revolvers\, due to the amount of rounds fired in each stage of fire and the amount of magazine exchanges.\n\nMay 5th will be Kingdom Elite Tactical's next  Intermediate / Experienced Shooter's Training Course.\n\nIf you have experience in shooting\, this is your next level of training!\n\nYou will engage multiple targets\, you will also do several different Disabled Gun Drills and Malfunction Drills. You will shoot from multiple shooting positions and a lot of training on moving and shooting in real life scenarios and practical applications!!\n\nCost is at the Introductory rate of $85.00\n\nWe will be shooting approximately 250 rounds.\n\nSee our website for more information and to enroll in the class. It is filling up fast. \n\nwww.tacticalshoot.com\n\nThere will be very little classroom\, the day will consitst mostly of  shooting and gaining confidence with your weapon after a brief lecture and Demo by the staff.\n\nYou will gain knowledge and skills like you never knew you could perform!! A surviving a  firearms encounter is all about confidence and having trained in the skills you will need.\n\nEmail: info@tacticalshoot.com\n\n662.587.1101
X-ALT-DESC;FMTTYPE=text/html:&nbsp\;\n<p>Intermediate Shooter&rsquo\;s Course</p>\n\n<p>This is your next Level Training Course after you have completed your Enhanced Carry Course.</p>\n\n<p>It is not recommended for Revolvers\, due to the amount of rounds fired in each stage of fire and the amount of magazine exchanges.</p>\n\n<p>May 5th will be Kingdom Elite Tactical&#39\;s next&nbsp\; Intermediate / Experienced Shooter&#39\;s Training Course.</p>\n\n<p>If you have experience in shooting\, this is your next level of training!</p>\n\n<p>You will engage multiple targets\, you will also do several different Disabled Gun Drills and Malfunction Drills. You will shoot from multiple shooting positions and a lot of training on moving and shooting in real life scenarios and practical applications!!</p>\n\n<p>Cost is at the Introductory rate of $85.00</p>\n\n<p>We will be shooting approximately 250 rounds.</p>\n\n<p>See our website for more information and to enroll in the class. It is filling up fast.&nbsp\;</p>\n\n<p>www.tacticalshoot.com</p>\n\n<p>There will be very little classroom\, the day will consitst mostly of&nbsp\; shooting and gaining confidence with your weapon after a brief lecture and Demo by the staff.</p>\n\n<p>You will gain knowledge and skills like you never knew you could perform!! A surviving a&nbsp\; firearms encounter is all about confidence and having trained in the skills you will need.</p>\n\n<p>Email: info@tacticalshoot.com</p>\n\n<p>662.587.1101</p>\n\n<p>&nbsp\;</p>\n\n<p>&nbsp\;</p>\n
LOCATION:Kingdom Elite Tactical Range & Training Complex
UID:e.512.7276
SEQUENCE:3
DTSTAMP:20260425T221147Z
URL:https://southavenchamber-mosaic-gzcms.preview.gochambermaster.com/events/details/intermediate-handgun-training-course-7276
END:VEVENT

END:VCALENDAR
