BEGIN:VCALENDAR
VERSION:2.0
PRODID:-//ChamberMaster//Event Calendar 2.0//EN
METHOD:PUBLISH
X-PUBLISHED-TTL:P3D
REFRESH-INTERVAL:P3D
CALSCALE:GREGORIAN
BEGIN:VEVENT
DTSTART;VALUE=DATE:20211007
DTEND;VALUE=DATE:20211008
TRANSP:TRANSPARENT
X-MICROSOFT-CDO-ALLDAYEVENT:TRUE
SUMMARY:House of Grace Golf Tournament
DESCRIPTION:Come join us for a day on the course in support of a great cause! Lunch and registration starts at 11Am and shotgun at 12PM. Donations will be accepted at event. There will also be door prizes and places awarded after tournament.\n\n\n\nPlease contact Gina Wigington at hofg.outreach@gmail.com or Dan Lehman at dlehman@landersmemphis.com for more information!
X-ALT-DESC;FMTTYPE=text/html:Come join us for a day on the course in support of a great cause! Lunch and registration starts at 11Am and shotgun at 12PM. Donations will be accepted at event. There will also be door prizes and places awarded after tournament.<br />\n<br />\nPlease contact Gina Wigington at hofg.outreach@gmail.com or Dan Lehman at dlehman@landersmemphis.com for more information!
LOCATION:Hernando Golf & Racquet Club 1000 Bradley Dr Hernando\, MS 38632
UID:e.512.16867
SEQUENCE:3
DTSTAMP:20260422T072423Z
URL:https://southavenchamber-mosaic-gzcms.preview.gochambermaster.com/events/details/house-of-grace-golf-tournament-16867
END:VEVENT

END:VCALENDAR
