BEGIN:VCALENDAR
VERSION:2.0
PRODID:-//ChamberMaster//Event Calendar 2.0//EN
METHOD:PUBLISH
X-PUBLISHED-TTL:P3D
REFRESH-INTERVAL:P3D
CALSCALE:GREGORIAN
BEGIN:VEVENT
DTSTART:20200824T233000Z
DTEND:20200825T003000Z
X-MICROSOFT-CDO-ALLDAYEVENT:FALSE
SUMMARY:Horn Lake Lions Club
DESCRIPTION:Horn Lake Lions Club meet every 2nd and 4th Monday @ 6:30 pm at Wise Guys Pizza in Horn Lake on Nail Road.
X-ALT-DESC;FMTTYPE=text/html:<span style="color:#0000CD"><strong>Horn Lake Lions Club meet every 2nd and 4th Monday @ 6:30 pm at Wise Guys Pizza in Horn Lake on Nail Road.&nbsp\;</strong></span>
LOCATION:Wise Guys Pizza in Horn Lake on Nail rd.
UID:e.512.15312
SEQUENCE:3
DTSTAMP:20260423T183123Z
URL:https://southavenchamber-mosaic-gzcms.preview.gochambermaster.com/events/details/horn-lake-lions-club-08-24-2020-15312
END:VEVENT

END:VCALENDAR
