BEGIN:VCALENDAR
VERSION:2.0
PRODID:-//ChamberMaster//Event Calendar 2.0//EN
METHOD:PUBLISH
X-PUBLISHED-TTL:P3D
REFRESH-INTERVAL:P3D
CALSCALE:GREGORIAN
BEGIN:VEVENT
DTSTART:20190425T223000Z
DTEND:20190426T000000Z
X-MICROSOFT-CDO-ALLDAYEVENT:FALSE
SUMMARY:Home Buyer Seminar 101 - Open to the Public
DESCRIPTION:Home Buying 101\n\nThinking of buying a home? Not sure where to start?\n\nThe NW MS REALTORS  is hosting a Home Buying\n\nSeminar for the public!\n\n\n\nLearn about grants\, down payment assistance\,\n\ncertified teacher loans and more!\n\nLearn what is available - Learn where to start.\n\n\n\nInformation will be presented by a panel of Mortgage and\n\nReal Estate Professionals and the Mississippi Home Corp.\n\n\n\nThursday April 25th\, 5:30-7:00\n\nNW MS Association of REALTORS   2795 Highway 51 Nesbit\, MS 38651\n\nClass is free and open to all! Go to www.nwmar.com\n\nfor additional information or call 662-449-3553
X-ALT-DESC;FMTTYPE=text/html:Home Buying 101<br />\nThinking of buying a home? Not sure where to start?<br />\nThe NW MS REALTORS&reg\; is hosting a Home Buying<br />\nSeminar for the public!<br />\n<br />\nLearn about grants\, down payment assistance\,<br />\ncertified teacher loans and more!<br />\nLearn what is available - Learn where to start.<br />\n<br />\nInformation will be presented by a panel of Mortgage and<br />\nReal Estate Professionals and the Mississippi Home Corp.<br />\n<br />\nThursday April 25th\, 5:30-7:00<br />\nNW MS Association of REALTORS &middot\; 2795 Highway 51 Nesbit\, MS 38651<br />\nClass is free and open to all! Go to www.nwmar.com<br />\nfor additional information or call 662-449-3553
LOCATION:NWMS Association of REALTORS 2795 Highway 51 Nesbit\, MS 38651 On Highway 51\, south of Starlanding beside Dollar General.
UID:e.512.12385
SEQUENCE:3
DTSTAMP:20260424T200944Z
URL:https://southavenchamber-mosaic-gzcms.preview.gochambermaster.com/events/details/home-buyer-seminar-101-open-to-the-public-12385
END:VEVENT

END:VCALENDAR
