BEGIN:VCALENDAR
VERSION:2.0
PRODID:-//ChamberMaster//Event Calendar 2.0//EN
METHOD:PUBLISH
X-PUBLISHED-TTL:P3D
REFRESH-INTERVAL:P3D
CALSCALE:GREGORIAN
BEGIN:VEVENT
DTSTART:20211111T160000Z
DTEND:20211111T230000Z
X-MICROSOFT-CDO-ALLDAYEVENT:FALSE
SUMMARY:Hiring Open House
DESCRIPTION:Are you ready to jump start your career in distribution? Come join us at our Hiring Open House! We are hiring all positions and all shifts!\n\nWe have a wage progression scale that allows for two raises in your first year! Other incentives include: $1000 attendance bonus\, $500 referral bonus\, great benefits\, growth and promotion opportunities and much more!\n\n \n\nDate: Thursday November 11/11    1st Shift Interviews: 10AM - 1PM      2nd Shift Interviews: 2PM-5PM\n\nLocation: WAI - 480 Stateline Rd. E. Southaven\, MS 38671\n\nWhat to bring: resume\n\nWhat to wear: casual\n\nEvent perks: complimentary refreshments & same day hiring!\n\nHiring for the following roles:\n\n\n	Inventory Cycle Counter\n	Outbound Shippers\n	Outbound Order Pickers\n	Packaging Associates\n	Receiving Dock Associates\n	Put-away Driver (Reach Truck Experience Required)\n	Warehouse Housekeeping\n\n\nRequirements for above roles:\n\n\n	Ability to take initiative\n	Enthusiastic\, energetic\n	Lift requirement of up to 35lbs\, up to 70lbs 10% of the time\n	Previous warehouse experience\n\n\nJob Types:\n\n\n	Full-time\n\n\nSchedule:\n\n\n	1st shift : 6:00am   2:30pm       Monday-Friday\n	2nd shift: 2:30pm   11:00pm     Monday-Friday\n	3rd shift: 6:00pm - 4:30am         Monday -Thursday \n\n\nAbout WAI\n\nWetherill Associates\, Inc.\, known as WAI\, was founded in 1978 by Richard Wetherill as a telephone sales organization for the automotive aftermarket business.  Since then\, we have grown into a worldwide manufacturing\, sourcing and distribution of the aftermarket automotive parts business.\n\nAt WAI\, we believe in providing the knowledge and tools needed to not only be successful\, but to grow in your career. You will receive in-depth training to ensure you are skilled\, productive and most importantly\, safe. \n\nWAI is a family owned company that now has over 600 employees in 10 locations worldwide and services customers in 105 countries! Come join our growing family! Apply NOW at www.waiglobal.com under Careers!
X-ALT-DESC;FMTTYPE=text/html:<div>Are you ready to jump start your career in distribution? Come join us at our Hiring Open House! We are hiring all positions and all shifts!</div>\n\n<div>We have a wage progression scale that allows for two raises in your first year! Other incentives include: $1000 attendance bonus\, $500 referral bonus\, great benefits\, growth and promotion opportunities and much more!</div>\n\n<div>&nbsp\;</div>\n\n<div><strong>Date: Thursday November 11/11&nbsp\; &nbsp\; 1st Shift Interviews: 10AM - 1PM&nbsp\; &nbsp\; &nbsp\; 2nd Shift Interviews: 2PM-5PM</strong></div>\n\n<div><strong>Location: WAI - 480 Stateline Rd. E. Southaven\, MS 38671</strong></div>\n\n<div><strong>What to bring:</strong> resume</div>\n\n<div><strong>What to wear:</strong> casual</div>\n\n<div><strong>Event perks:</strong> complimentary refreshments &amp\; same day hiring!</div>\n\n<div><strong>Hiring for the following roles:</strong></div>\n\n<ul>\n	<li>Inventory Cycle Counter</li>\n	<li>Outbound Shippers</li>\n	<li>Outbound Order Pickers</li>\n	<li>Packaging Associates</li>\n	<li>Receiving Dock Associates</li>\n	<li>Put-away Driver (Reach Truck Experience Required)</li>\n	<li>Warehouse Housekeeping</li>\n</ul>\n\n<div><strong>Requirements for above roles:</strong></div>\n\n<ul>\n	<li>Ability to take initiative</li>\n	<li>Enthusiastic\, energetic</li>\n	<li>Lift requirement of up to 35lbs\, up to 70lbs 10% of the time</li>\n	<li>Previous warehouse experience</li>\n</ul>\n\n<div><strong>Job Types:</strong></div>\n\n<ul>\n	<li>Full-time</li>\n</ul>\n\n<div><strong>Schedule:</strong></div>\n\n<ul>\n	<li>1st shift : 6:00am &ndash\; 2:30pm&nbsp\; &nbsp\; &nbsp\; &nbsp\;Monday-Friday</li>\n	<li>2nd shift: 2:30pm &ndash\; 11:00pm&nbsp\; &nbsp\; &nbsp\;Monday-Friday</li>\n	<li>3rd shift: 6:00pm - 4:30am&nbsp\; &nbsp\; &nbsp\; &nbsp\; &nbsp\;Monday -Thursday&nbsp\;</li>\n</ul>\n\n<div><strong>About WAI</strong></div>\n\n<div>Wetherill Associates\, Inc.\, known as WAI\, was founded in 1978 by Richard Wetherill as a telephone sales organization for the automotive aftermarket business.&nbsp\; Since then\, we have grown into a worldwide manufacturing\, sourcing and distribution of the aftermarket automotive parts business.</div>\n\n<div>At WAI\, we believe in providing the knowledge and tools needed to not only be successful\, but to grow in your career. You will receive in-depth training to ensure you are skilled\, productive and most importantly\, safe.&nbsp\;</div>\n\n<div>WAI is a family owned company that now has over 600 employees in 10 locations worldwide and services customers in 105 countries! Come join our growing family! Apply NOW at <a href="https://www.waiglobal.com/">www.waiglobal.com</a> under Careers!</div>\n
LOCATION:WAI 480 Stateline Rd. E Southaven\, MS 38671
UID:e.512.17126
SEQUENCE:3
DTSTAMP:20260422T052903Z
URL:https://southavenchamber-mosaic-gzcms.preview.gochambermaster.com/events/details/hiring-open-house-17126
END:VEVENT

END:VCALENDAR
