BEGIN:VCALENDAR
VERSION:2.0
PRODID:-//ChamberMaster//Event Calendar 2.0//EN
METHOD:PUBLISH
X-PUBLISHED-TTL:P3D
REFRESH-INTERVAL:P3D
CALSCALE:GREGORIAN
BEGIN:VEVENT
DTSTART:20220415T130000Z
DTEND:20220415T210000Z
X-MICROSOFT-CDO-ALLDAYEVENT:FALSE
SUMMARY:Healing Hearts Annual Sporting Clay Shoot
DESCRIPTION:Event will include 4 person teams located on 15 station course totaling 100 shots per person. Lunch will be provided\, there will also be a bird flush available to shoot and some side games. This event is a benefit for Healing Hearts Child Advocacy Center.\n\n \n\nHealing Hearts Child Advocacy Center (CAC) is a 501c3 non-profit that serves DeSoto and Tate County. Healing Hearts CAC provides forensic interviews\, mental health counseling\, community education\, coordination of multi-disciplinary team and a safe place to heal for victims of child abuse\, their families and child witnesses to violent crimes. Please be a part of funding and maintaining this much needed resource that helps protect the children of DeSoto and Tate Counties by joining us for inaugural Aim to Heal Hearts Clay Shoot Event!\n\n\n\nFor more information or to make donations\, contact Ben Boren at (662) 267-9404.
X-ALT-DESC;FMTTYPE=text/html:<p><strong>Event will include 4 person teams located on 15 station course totaling 100 shots per person. Lunch will be provided\, there will also be a bird flush available to shoot and some side games. This event is a benefit for Healing Hearts Child Advocacy Center.</strong></p>\n\n<p>&nbsp\;</p>\n\n<p><em>Healing Hearts Child Advocacy Center (CAC) is a 501c3 non-profit that serves DeSoto and Tate County. Healing Hearts CAC provides forensic interviews\, mental health counseling\, community education\, coordination of multi-disciplinary team and a safe place to heal for victims of child abuse\, their families and child witnesses to violent crimes. Please be a part of funding and maintaining this much needed resource that helps protect the children of DeSoto and Tate Counties by joining us for inaugural Aim to Heal Hearts Clay Shoot Event!</em><br />\n<br />\nFor more information or to make donations\, contact Ben Boren at (662) 267-9404.</p>\n
LOCATION:McIvor Shooting Range 4216 Davis Chapel Rd. Sardis\, MS 38666
UID:e.512.17212
SEQUENCE:3
DTSTAMP:20260421T125916Z
URL:https://southavenchamber-mosaic-gzcms.preview.gochambermaster.com/events/details/healing-hearts-annual-sporting-clay-shoot-17212
END:VEVENT

END:VCALENDAR
