BEGIN:VCALENDAR
VERSION:2.0
PRODID:-//ChamberMaster//Event Calendar 2.0//EN
METHOD:PUBLISH
X-PUBLISHED-TTL:P3D
REFRESH-INTERVAL:P3D
CALSCALE:GREGORIAN
BEGIN:VEVENT
DTSTART:20220830T130000Z
DTEND:20220830T140000Z
X-MICROSOFT-CDO-ALLDAYEVENT:FALSE
SUMMARY:Grand Opening/Ribbon Cutting - Memphis Lung
DESCRIPTION:Ribbon Cutting\, 8AM\, Memphis Lung\, 363 Southcrest Circle\, Ste 201\, Southaven\, MS 38671: We are excited to welcome Memphis Lung to the Chamber! Memphis Lung has been serving and helping people improve their quality of life since 1980 by treating diseases of the chest\; Where Patient Care is First! They specialize in: pulmonary medicine\, critical care medicine\, and sleep medicine. Come join us as we welcome them to Southaven!
X-ALT-DESC;FMTTYPE=text/html:<strong><span style="color:#333333\;"><span style="font-family:tahoma\,sans-serif\;"><span style="font-size:16.0pt\;">Ribbon Cutting\, 8AM\, Memphis Lung\, 363 Southcrest Circle\, Ste 201\, Southaven\, MS 38671:&nbsp\;</span></span></span></strong><span style="color:#333333\;"><span style="font-family:tahoma\,sans-serif\;"><span style="font-size:16.0pt\;"><span style="font-variant-ligatures:normal\;font-variant-caps:normal\;orphans:2\;text-align:start\;widows:2\;-webkit-text-stroke-width:0px\;text-decoration-thickness:initial\;text-decoration-style:initial\;word-spacing:0px\;"><span style="font-variant-ligatures:normal\;font-variant-caps:normal\;orphans:2\;text-align:start\;widows:2\;-webkit-text-stroke-width:0px\;text-decoration-thickness:initial\;text-decoration-style:initial\;word-spacing:0px\;">We are excited to welcome Memphis Lung to the Chamber! Memphis Lung has been serving and helping people improve their quality of life since 1980 by treating diseases of the chest\; Where Patient Care is First! They specialize in: pulmonary medicine\, critical care medicine\, and sleep medicine. Come join us as we welcome them to Southaven!</span></span></span></span></span>
LOCATION:
UID:e.512.17370
SEQUENCE:3
DTSTAMP:20260421T001435Z
URL:https://southavenchamber-mosaic-gzcms.preview.gochambermaster.com/events/details/grand-opening-ribbon-cutting-memphis-lung-17370
END:VEVENT

END:VCALENDAR
