BEGIN:VCALENDAR
VERSION:2.0
PRODID:-//ChamberMaster//Event Calendar 2.0//EN
METHOD:PUBLISH
X-PUBLISHED-TTL:P3D
REFRESH-INTERVAL:P3D
CALSCALE:GREGORIAN
BEGIN:VEVENT
DTSTART:20190720T230000Z
DTEND:20190721T030000Z
X-MICROSOFT-CDO-ALLDAYEVENT:FALSE
SUMMARY:Gold Star Banquet for DeSoto County Veterans Park
DESCRIPTION:All proceeds from the Gold Star Banquet will go towards the purchase and placement of the pavilion in the park and will hasten its availability for people\, many of whom are veterans and/or their families\, to use and enjoy. \n\n\n\nTickets are $45 single/$70 couple (pre-buy) or $50/$75 (at the door). Tables for 8 are also available. The "Colonel" table is $1000 & includes 8 meals\, 16 Major raffle tickets & 80 Minor raffle tickets\, the "Lt. Colonel" table is $500 & includes 8 meals\, 8 Major raffle tickets & 40 Minor raffle tickets. Major raffle items are valued from $100 to $500 and Minor raffle items are valued from $25 to $100. Get your tickets before you miss out on this awesome evening. Having fun & being in the presence of hero's\, our Veterans\, is priceless!!\n\n  \n\nTickets are available at The American Legion Post 134\, 2520 Goodman Rd. W Horn Lake\, Ms.\, Dabbs Gun & Pawn\, 7957 Hwy. 51\, Southaven\, Ms.\, & The Gun Shop\, 2440 Mt. Pleasant Rd.\, Hernando\, Ms. and I also have some.
X-ALT-DESC;FMTTYPE=text/html:All proceeds from the Gold Star Banquet will go towards the purchase and placement of the pavilion in the park and will hasten its availability for people\, many of whom are veterans and/or their families\, to use and enjoy.&nbsp\;<br />\n<br />\nTickets are $45 single/$70 couple (pre-buy) or $50/$75 (at the door). Tables for 8 are also available. The &quot\;Colonel&quot\; table is $1000 &amp\; includes 8 meals\, 16 Major raffle tickets &amp\; 80 Minor raffle tickets\, the &quot\;Lt. Colonel&quot\; table is $500 &amp\; includes 8 meals\, 8 Major raffle tickets &amp\; 40 Minor raffle tickets. Major raffle items are valued from $100 to $500 and Minor raffle items are valued from $25 to $100. Get your tickets before you miss out on this awesome evening. Having fun &amp\; being in the presence of hero&#39\;s\, our Veterans\, is priceless!!<br />\n&nbsp\;&nbsp\;<br />\nTickets are available at The American Legion Post 134\, 2520 Goodman Rd. W Horn Lake\, Ms.\, Dabbs Gun &amp\; Pawn\, 7957 Hwy. 51\, Southaven\, Ms.\, &amp\; The Gun Shop\, 2440 Mt. Pleasant Rd.\, Hernando\, Ms. and I also have some.
LOCATION:Cypress Hall 4036 Robinson Gin Road Hernando MS
UID:e.512.12454
SEQUENCE:3
DTSTAMP:20260424T135010Z
URL:https://southavenchamber-mosaic-gzcms.preview.gochambermaster.com/events/details/gold-star-banquet-for-desoto-county-veterans-park-12454
END:VEVENT

END:VCALENDAR
