BEGIN:VCALENDAR
VERSION:2.0
PRODID:-//ChamberMaster//Event Calendar 2.0//EN
METHOD:PUBLISH
X-PUBLISHED-TTL:P3D
REFRESH-INTERVAL:P3D
CALSCALE:GREGORIAN
BEGIN:VEVENT
DTSTART:20181016T230000Z
DTEND:20181017T010000Z
X-MICROSOFT-CDO-ALLDAYEVENT:FALSE
SUMMARY:Get2College- Adult ACT Workshop
DESCRIPTION:The North MS Get2College Center will be hosting an Adult ACT workshop on October 16\, 2018. Our Adult ACT Workshop is for students who are 18 years of age or older.\n\nThis workshop is designed for adult students who may be looking to enroll in certain programs that require a specific ACT score. Please share this information with your adult students.\n\n \n\nDate: 10/16/18\n\nTime: 6:00-8:00 p.m.\n\nSubjects: English\, Math\, Reading and Science\n\nLocation: North MS Get2College Center- 5699 Getwell Road\, Building H\, Suite 3\, Southaven\, MS 38672.\n\nRegistration Opens: September 15\, 2018    https://get2college.org/north-ms-october-16-adult-act-workshop\n\nCost: ALL Get2College services are FREE!\n\n \n\nNote: Current high school students should register for student workshops through the North MS- Student Tab. - https://get2college.org/act-workshops\n\n \n\nThanks so much!
X-ALT-DESC;FMTTYPE=text/html:The North MS Get2College Center will be hosting an Adult ACT workshop on October 16\, 2018. Our Adult ACT Workshop is for students who are 18 years of age or older.<br />\nThis workshop is designed for adult students who may be looking to enroll in certain programs that require a specific ACT score.&nbsp\;Please share this information with your adult students.<br />\n&nbsp\;<br />\n<strong>Date: 10/16/18</strong><br />\n<strong>Time: 6:00-8:00 p.m.</strong><br />\n<strong>Subjects: English\, Math\, Reading and Science</strong><br />\n<strong>Location: North MS Get2College Center- 5699 Getwell Road\, Building H\, Suite 3\, Southaven\, MS 38672.</strong><br />\n<strong><span style="color:red">Registration Opens</span></strong><span style="color:red">: <strong>September 15\, 2018 </strong></span><strong>&ndash\; &nbsp\;<a href="https://get2college.org/north-ms-october-16-adult-act-workshop">https://get2college.org/north-ms-october-16-adult-act-workshop</a></strong><br />\n<strong>Cost: ALL Get2College services are </strong><strong><u><span style="font-size:12.0pt">FREE!</span></u></strong><br />\n&nbsp\;<br />\n<em>Note: Current high school students should register for student workshops through the North MS- Student Tab. - <a href="https://get2college.org/act-workshops">https://get2college.org/act-workshops</a></em><br />\n&nbsp\;<br />\nThanks so much!
LOCATION:North MS Get2College Center 5699 Getwell Rd. Bldg H\, Suite 3 Southaven\, MS 38672
UID:e.512.8833
SEQUENCE:3
DTSTAMP:20260425T035412Z
URL:https://southavenchamber-mosaic-gzcms.preview.gochambermaster.com/events/details/get2college-adult-act-workshop-8833
END:VEVENT

END:VCALENDAR
