BEGIN:VCALENDAR
VERSION:2.0
PRODID:-//ChamberMaster//Event Calendar 2.0//EN
METHOD:PUBLISH
X-PUBLISHED-TTL:P3D
REFRESH-INTERVAL:P3D
CALSCALE:GREGORIAN
BEGIN:VEVENT
DTSTART:20220323T133000Z
DTEND:20220323T170000Z
X-MICROSOFT-CDO-ALLDAYEVENT:FALSE
SUMMARY:FREE Virtual Ethics Continuing Education Event
DESCRIPTION:National Social Work Month\n\nMARCH 2022 \nIn honor of the wonderful work that social workers do\, we invite you to join us for a...\n\nFREE Virtual Ethics Continuing Education Event!\n\nFeaturing our Guest Speaker:\n\nJudy Bookman\, LCSW\n\nhttps://judybookman.com/about-judy\n\nWednesday\, March 23\, 2022\n\n8:30 a.m. - Noon\n\n \nMethodist Alliance is hosting the Virtual Ethics CE conference in honor of National Social Work Month in March. This event will be free and open to all professionals with CEU approvals with NASW and PACE (Case Management). Three (3) CEU approved by NASW and PACE. Must be preregistered.\n\nRegistration link:\n\nhttps://mlhforms.
X-ALT-DESC;FMTTYPE=text/html:<div style="text-align: center\;">National Social Work Month<br />\nMARCH 2022&nbsp\;</div>\nIn honor of the wonderful work that social workers do\, we invite you to join us for a...\n\n<div style="text-align: center\;">FREE Virtual Ethics Continuing Education Event!</div>\n\n<div style="text-align: center\;"><strong>Featuring our Guest Speaker:</strong></div>\n\n<div>Judy Bookman\, LCSW<br />\nhttps://judybookman.com/about-judy<br />\nWednesday\, March 23\, 2022<br />\n8:30 a.m. - Noon<br />\n&nbsp\;</div>\nMethodist Alliance is hosting the Virtual Ethics CE conference in honor of National Social Work Month in March. This event will be free and open to all professionals with CEU approvals with NASW and PACE (Case Management). Three (3) CEU approved by NASW and PACE. Must be preregistered.\n\n<div style="text-align: center\;">Registration link:<br />\nhttps://mlhforms.</div>\n
LOCATION:
UID:e.512.17194
SEQUENCE:3
DTSTAMP:20260421T175023Z
URL:https://southavenchamber-mosaic-gzcms.preview.gochambermaster.com/events/details/free-virtual-ethics-continuing-education-event-17194
END:VEVENT

END:VCALENDAR
