BEGIN:VCALENDAR
VERSION:2.0
PRODID:-//ChamberMaster//Event Calendar 2.0//EN
METHOD:PUBLISH
X-PUBLISHED-TTL:P3D
REFRESH-INTERVAL:P3D
CALSCALE:GREGORIAN
BEGIN:VEVENT
DTSTART:20220124T180000Z
DTEND:20220124T200000Z
X-MICROSOFT-CDO-ALLDAYEVENT:FALSE
SUMMARY:FREE Social Media Training
DESCRIPTION:EXIT Southern Charm Realty is offering knowledge on ways to expand you brand along with free social media training!\n\n\n\nThis even is open to all retailer and business owners so join Arielle Reece\, owner at the Southaven Chamber of Commerce\, January 24th from 12-2PM!
X-ALT-DESC;FMTTYPE=text/html:EXIT Southern Charm Realty is offering knowledge on ways to expand you brand along with free social media training!<br />\n<br />\nThis even is open to all retailer and business owners so join Arielle Reece\, owner at the Southaven Chamber of Commerce\, January 24th from 12-2PM!
LOCATION:Southaven Chamber of Commerce 500 Main Street Southaven\, MS 38671
UID:e.512.17167
SEQUENCE:3
DTSTAMP:20260422T002237Z
URL:https://southavenchamber-mosaic-gzcms.preview.gochambermaster.com/events/details/free-social-media-training-17167
END:VEVENT

END:VCALENDAR
